BEGIN:VCALENDAR
VERSION:2.0
PRODID:-//West Bountiful City - ECPv6.15.17.1//NONSGML v1.0//EN
CALSCALE:GREGORIAN
METHOD:PUBLISH
X-ORIGINAL-URL:https://wbcityut.gov
X-WR-CALDESC:Events for West Bountiful City
REFRESH-INTERVAL;VALUE=DURATION:PT1H
X-Robots-Tag:noindex
X-PUBLISHED-TTL:PT1H
BEGIN:VTIMEZONE
TZID:America/Chicago
BEGIN:DAYLIGHT
TZOFFSETFROM:-0600
TZOFFSETTO:-0500
TZNAME:CDT
DTSTART:20220313T080000
END:DAYLIGHT
BEGIN:STANDARD
TZOFFSETFROM:-0500
TZOFFSETTO:-0600
TZNAME:CST
DTSTART:20221106T070000
END:STANDARD
BEGIN:DAYLIGHT
TZOFFSETFROM:-0600
TZOFFSETTO:-0500
TZNAME:CDT
DTSTART:20230312T080000
END:DAYLIGHT
BEGIN:STANDARD
TZOFFSETFROM:-0500
TZOFFSETTO:-0600
TZNAME:CST
DTSTART:20231105T070000
END:STANDARD
BEGIN:DAYLIGHT
TZOFFSETFROM:-0600
TZOFFSETTO:-0500
TZNAME:CDT
DTSTART:20240310T080000
END:DAYLIGHT
BEGIN:STANDARD
TZOFFSETFROM:-0500
TZOFFSETTO:-0600
TZNAME:CST
DTSTART:20241103T070000
END:STANDARD
END:VTIMEZONE
BEGIN:VEVENT
DTSTART;VALUE=DATE:20230102
DTEND;VALUE=DATE:20230103
DTSTAMP:20260422T093913
CREATED:20220514T042340Z
LAST-MODIFIED:20220514T042340Z
UID:10000215-1672617600-1672703999@wbcityut.gov
SUMMARY:New Year Holiday-city offices closed
DESCRIPTION:
URL:https://wbcityut.gov/event/new-year-holiday-city-offices-closed/
CATEGORIES:Holiday
END:VEVENT
BEGIN:VEVENT
DTSTART;VALUE=DATE:20230103
DTEND;VALUE=DATE:20230104
DTSTAMP:20260422T093913
CREATED:20221027T020119Z
LAST-MODIFIED:20221230T174506Z
UID:10000264-1672704000-1672790399@wbcityut.gov
SUMMARY:City Council Mtg-canceled
DESCRIPTION:
URL:https://wbcityut.gov/event/city-council-mtg-34/
CATEGORIES:City Council
END:VEVENT
BEGIN:VEVENT
DTSTART;VALUE=DATE:20230109
DTEND;VALUE=DATE:20230111
DTSTAMP:20260422T093913
CREATED:20221229T060231Z
LAST-MODIFIED:20230102T082806Z
UID:10000321-1673222400-1673395199@wbcityut.gov
SUMMARY:Christmas Tree Pick-up
DESCRIPTION:Christmas trees placed curbside will be picked up on January 9th and 10th along with your regular garbage pick-up. Please remove lights and all decorations. 
URL:https://wbcityut.gov/event/christmas-tree-pick-up-3/
CATEGORIES:Events
END:VEVENT
BEGIN:VEVENT
DTSTART;TZID=America/Chicago:20230110T193000
DTEND;TZID=America/Chicago:20230110T210000
DTSTAMP:20260422T093913
CREATED:20221027T021033Z
LAST-MODIFIED:20230109T194331Z
UID:10000266-1673379000-1673384400@wbcityut.gov
SUMMARY:Planning Commission Mtg
DESCRIPTION:THE PLANNING COMMISSION WILL HOLD A REGULAR MEETING AT 7:30 PM ON TUESDAY\, JANUARY 10\, 2023\, AT THE CITY OFFICES. \n Prayer/Thought – Commissioner Vest; Pledge of Allegiance – Commissioner Mitchell. \n\nConfirm Agenda.\nDiscuss New Model Home Ordinance\, WBMC Chapter 17.74.\nDiscuss Updates to the Swimming Pool Ordinance\, WBMC Chapter 17.76.\nDiscuss Clean-up Corrections and Updates to Miscellaneous Land Use Regulations in Titles 16 and 17.\nConsider Meeting Minutes from October 25\, 2022.\nStaff report\n\nEngineering (Kris Nilsen)\nCommunity Development (Cathy Brightwell)\n\n\nAdjourn\n\nMEETING PACKET \n  \n 
URL:https://wbcityut.gov/event/planning-commission-mtg-33/
CATEGORIES:Meetings
END:VEVENT
BEGIN:VEVENT
DTSTART;TZID=America/Chicago:20230111T190000
DTEND;TZID=America/Chicago:20230111T203000
DTSTAMP:20260422T093913
CREATED:20230105T000911Z
LAST-MODIFIED:20230105T000911Z
UID:10000323-1673463600-1673469000@wbcityut.gov
SUMMARY:Legislative Town Hall
DESCRIPTION:A legislative town hall\, hosted by Rep. Ray Ward and other local legislators\, will be held in the city council chambers.
URL:https://wbcityut.gov/event/legislative-town-hall/
CATEGORIES:Events
END:VEVENT
BEGIN:VEVENT
DTSTART;TZID=America/Chicago:20230113T190000
DTEND;TZID=America/Chicago:20230113T200000
DTSTAMP:20260422T093913
CREATED:20221027T021705Z
LAST-MODIFIED:20230110T224109Z
UID:10000269-1673636400-1673640000@wbcityut.gov
SUMMARY:Arts Council Concert
DESCRIPTION:Andy Leger will be in Concert on Friday\, January 13\, 2023 at West Bountiful City Hall. Don’t miss this fun event.
URL:https://wbcityut.gov/event/arts-council-concert-5/
CATEGORIES:Events
ATTACH;FMTTYPE=image/jpeg:https://cdn.townweb.com/wbcityut.gov/wp-content/uploads/2023/01/Arts-Leger-Andy-multiple.jpg
END:VEVENT
BEGIN:VEVENT
DTSTART;VALUE=DATE:20230116
DTEND;VALUE=DATE:20230117
DTSTAMP:20260422T093913
CREATED:20221027T015916Z
LAST-MODIFIED:20230102T082926Z
UID:10000263-1673827200-1673913599@wbcityut.gov
SUMMARY:Martin Luther King Holiday-city offices closed
DESCRIPTION:
URL:https://wbcityut.gov/event/martin-luther-king-holiday/
CATEGORIES:Events
END:VEVENT
BEGIN:VEVENT
DTSTART;TZID=America/Chicago:20230117T193000
DTEND;TZID=America/Chicago:20230117T210000
DTSTAMP:20260422T093913
CREATED:20240304T125143Z
LAST-MODIFIED:20240304T125143Z
UID:10000228-1673983800-1673989200@wbcityut.gov
SUMMARY:City Council Mtg
DESCRIPTION:
URL:https://wbcityut.gov/event/city-council-mtg-28/2023-01-17/
CATEGORIES:City Council
END:VEVENT
BEGIN:VEVENT
DTSTART;TZID=America/Chicago:20230124T193000
DTEND;TZID=America/Chicago:20230124T200000
DTSTAMP:20260422T093913
CREATED:20230112T195610Z
LAST-MODIFIED:20230112T195610Z
UID:10000324-1674588600-1674590400@wbcityut.gov
SUMMARY:Public Hearing
DESCRIPTION:The Planning Commission will hold three public hearings at City Hall on Tuesday\, January 24\, 2022\, beginning at 7:30 p.m. as part of their regular meeting. \nThe purpose of the hearings is to receive public comment on the following issues: \n\nProposed New Model Home/Sales Trailer Ordinance\, WBMC 17.74;\nProposed Updates to Swimming Pool Ordinance\, WBMC 17.76; and\nProposed Clean-up to Land Use Definitions and Miscellaneous Corrections in WBMC 16 – Subdivisions and 17 – Zoning.\n\nAll interested parties are invited to participate in the hearing. Written comments may be submitted prior to the meeting to Recorder@WBCity.org. \nCathy Brightwell\, City Recorder \n 
URL:https://wbcityut.gov/event/public-hearing-5/
CATEGORIES:Events
END:VEVENT
BEGIN:VEVENT
DTSTART;TZID=America/Chicago:20230124T193000
DTEND;TZID=America/Chicago:20230124T210000
DTSTAMP:20260422T093913
CREATED:20221027T021230Z
LAST-MODIFIED:20230121T020406Z
UID:10000267-1674588600-1674594000@wbcityut.gov
SUMMARY:Planning Commission Mtg
DESCRIPTION:AGENDA: \n\nPrayer/Thought – Commissioner Mitchell; Pledge of Allegiance – Commissioner Malan.\nConfirm Agenda.\nConditional Use Application for a Home Occupation for Auto Italia Repairs at 638 N 660 West – Aimee & Adan Hinojosa\nPublic Hearings and Consider:\n\n– New Model Home Ordinance\, WBMC Chapter 17.74. \n– Updates to the Swimming Pool Ordinance\, WBMC Chapter 17.76. \n– Clean-up Corrections and Updates to Miscellaneous Land Use Regulations in WBMC Titles 16 and 17. \n5.  Consider Meeting Minutes from January 10\, 2023. \n6.  Staff report – Engineering (Kris Nilsen) & Community Development (Cathy Brightwell) \n7.  Adjourn. \n1/24/2023 Meeting Packet \n 
URL:https://wbcityut.gov/event/planning-commission-mtg-34/
CATEGORIES:Meetings
END:VEVENT
BEGIN:VEVENT
DTSTART;TZID=America/Chicago:20230126T170000
DTEND;TZID=America/Chicago:20230126T181500
DTSTAMP:20260422T093913
CREATED:20221027T020311Z
LAST-MODIFIED:20230125T194101Z
UID:10000265-1674752400-1674756900@wbcityut.gov
SUMMARY:Youth Council Mtg
DESCRIPTION:AGENDA \n\nWelcome/Attendance\nPledge of Allegiance/Youth Thought  \nDay at the Legislature Recap – Elsie\, Drew\nRecruiting for 2023-2024 Term – Contest ideas?\nApprove Minutes from January 12\, 2023. \nNext Meeting – February 9\, 2023 \nYouth Listening Session – Danielle Kaiser\, Davis Behavioral Health\nAdjourn 
URL:https://wbcityut.gov/event/youth-council-mtg-10/
CATEGORIES:Meetings
END:VEVENT
END:VCALENDAR