BEGIN:VCALENDAR
VERSION:2.0
PRODID:-//West Bountiful City - ECPv6.15.17.1//NONSGML v1.0//EN
CALSCALE:GREGORIAN
METHOD:PUBLISH
X-WR-CALNAME:West Bountiful City
X-ORIGINAL-URL:https://wbcityut.gov
X-WR-CALDESC:Events for West Bountiful City
REFRESH-INTERVAL;VALUE=DURATION:PT1H
X-Robots-Tag:noindex
X-PUBLISHED-TTL:PT1H
BEGIN:VTIMEZONE
TZID:America/Chicago
BEGIN:DAYLIGHT
TZOFFSETFROM:-0600
TZOFFSETTO:-0500
TZNAME:CDT
DTSTART:20210314T080000
END:DAYLIGHT
BEGIN:STANDARD
TZOFFSETFROM:-0500
TZOFFSETTO:-0600
TZNAME:CST
DTSTART:20211107T070000
END:STANDARD
BEGIN:DAYLIGHT
TZOFFSETFROM:-0600
TZOFFSETTO:-0500
TZNAME:CDT
DTSTART:20220313T080000
END:DAYLIGHT
BEGIN:STANDARD
TZOFFSETFROM:-0500
TZOFFSETTO:-0600
TZNAME:CST
DTSTART:20221106T070000
END:STANDARD
BEGIN:DAYLIGHT
TZOFFSETFROM:-0600
TZOFFSETTO:-0500
TZNAME:CDT
DTSTART:20230312T080000
END:DAYLIGHT
BEGIN:STANDARD
TZOFFSETFROM:-0500
TZOFFSETTO:-0600
TZNAME:CST
DTSTART:20231105T070000
END:STANDARD
END:VTIMEZONE
BEGIN:VEVENT
DTSTART;TZID=America/Chicago:20221101T193000
DTEND;TZID=America/Chicago:20221101T213000
DTSTAMP:20260422T122619
CREATED:20220913T225343Z
LAST-MODIFIED:20220913T225343Z
UID:10000250-1667331000-1667338200@wbcityut.gov
SUMMARY:City Council Mtg
DESCRIPTION:
URL:https://wbcityut.gov/event/city-council-mtg-30/
CATEGORIES:City Council
END:VEVENT
BEGIN:VEVENT
DTSTART;TZID=America/Chicago:20221106T020000
DTEND;TZID=America/Chicago:20221106T030000
DTSTAMP:20260422T122619
CREATED:20220106T072204Z
LAST-MODIFIED:20220106T072204Z
UID:10000189-1667700000-1667703600@wbcityut.gov
SUMMARY:Daylight Savings ends
DESCRIPTION:
URL:https://wbcityut.gov/event/daylight-savings-ends/
CATEGORIES:Events
END:VEVENT
BEGIN:VEVENT
DTSTART;TZID=America/Chicago:20221108T070000
DTEND;TZID=America/Chicago:20221108T200000
DTSTAMP:20260422T122619
CREATED:20220913T224827Z
LAST-MODIFIED:20220913T224827Z
UID:10000249-1667890800-1667937600@wbcityut.gov
SUMMARY:General Election
DESCRIPTION:The U.S. General Election will be held on Tuesday\, November 8\, 2022.  West Bountiful city hall will be available for in-person voting from 7 am to 8 pm.
URL:https://wbcityut.gov/event/general-election-2/
CATEGORIES:Events
END:VEVENT
BEGIN:VEVENT
DTSTART;VALUE=DATE:20221111
DTEND;VALUE=DATE:20221112
DTSTAMP:20260422T122619
CREATED:20220106T072249Z
LAST-MODIFIED:20221022T030220Z
UID:10000190-1668124800-1668211199@wbcityut.gov
SUMMARY:Veteran’s Day-city offices closed
DESCRIPTION:
URL:https://wbcityut.gov/event/veterans-day-city-offices-closed-2/
CATEGORIES:Holiday
END:VEVENT
BEGIN:VEVENT
DTSTART;TZID=America/Chicago:20221111T190000
DTEND;TZID=America/Chicago:20221111T200000
DTSTAMP:20260422T122619
CREATED:20220913T230241Z
LAST-MODIFIED:20221104T190107Z
UID:10000256-1668193200-1668196800@wbcityut.gov
SUMMARY:Arts Council Concert - Susie Carter
DESCRIPTION:In November\, as the West Bountiful Arts Council winds down it’s 2022 summer/fall concert series they will bring Susie Carter to the stage. She will be performing her annual “It’s Beginning to Look A Lot Like Christmas” Concert. \nAs we reflect on what we have come to know about Susie and her very special talent two things are certain. First\, concertgoers will be treated to a genre of Susie Carter favorites. And 2nd\, that her mellow tones will transition them easily from Broadway\, to Thanksgiving\, and to Christmas. \nSo what else do we know about Susie? She was raised in Mesa\, Arizona and then lived in Idaho for 20 years. She said\, “My family loved music and we all took piano lessons for at least one year. I didn’t like lessons…so I only took one year. But\, two of my sisters and I also played violin and viola. My Sister Julie and I sang together a lot growing up and we still do whenever we can.” \nSusie\, also said\, “I sang all through my school years and then had the opportunity to go to school at BYU-Hawaii.  I sang with the showcase choir that toured the Islands\, a real highlight for me. After I got married I even taught (sort of) some voice lessons. Most of my students already knew how to sing\, and just needed a few tips and the right songs to sing. Since moving to Utah\, I sing mainly for community gatherings like West Bountiful’s concerts\, which I LOVE\, church\, weddings and class reunions. One of my most favorite things to do is sing at Dick’s Market at Christmastime. I earn tips and help needy families or a child in need. It means a great deal to me when the many friends I have made there\, tell me they enjoy the atmosphere and the Christmas spirit I bring when I sing.” \nOver the years Susie has sung with various bands and groups as a soloist. She loves the theater and said\, “I’ve been in many fun productions. My most favorite roles were Winifred in “Once Upon a Mattress” and Miss Hanagun from “Annie”. \n Susie is married to Butch Carter who was raised in Bountiful and they now live in West Bountiful. She has 4 children and he has 4 children. When they got married they had 6 teenagers in the house and Susie said\, “No it was not like the Brady Bunch!” They are now empty nesters\, at least part of the time\, as children sometimes come and go. But for now\, Susie said\, “They simply cherish their “honeymoon” time together. \nPlease join us on Friday\, November 11\, for our “It’s Beginning to Look A Lot Like Christmas” Susie Carter fall concert. It starts at 7:00 pm and is held at the West Bountiful City Hall\, on 550 North 800 West. \n 
URL:https://wbcityut.gov/event/arts-council-concert-4/
CATEGORIES:Events
ATTACH;FMTTYPE=image/jpeg:https://cdn.townweb.com/wbcityut.gov/wp-content/uploads/2022/11/Susie-collage.jpg
END:VEVENT
BEGIN:VEVENT
DTSTART;TZID=America/Chicago:20221115T193000
DTEND;TZID=America/Chicago:20221115T210000
DTSTAMP:20260422T122619
CREATED:20220913T230153Z
LAST-MODIFIED:20221111T014624Z
UID:10000255-1668540600-1668546000@wbcityut.gov
SUMMARY:City Council Mtg-cancelled
DESCRIPTION:
URL:https://wbcityut.gov/event/city-council-mtg-33/
CATEGORIES:City Council
END:VEVENT
BEGIN:VEVENT
DTSTART;TZID=America/Chicago:20221115T200000
DTEND;TZID=America/Chicago:20221115T210000
DTSTAMP:20260422T122619
CREATED:20221111T014716Z
LAST-MODIFIED:20221111T014716Z
UID:10000316-1668542400-1668546000@wbcityut.gov
SUMMARY:Planning Commission Mtg
DESCRIPTION:
URL:https://wbcityut.gov/event/planning-commission-mtg-53/
CATEGORIES:Meetings
END:VEVENT
BEGIN:VEVENT
DTSTART;VALUE=DATE:20221124
DTEND;VALUE=DATE:20221126
DTSTAMP:20260422T122619
CREATED:20220106T072357Z
LAST-MODIFIED:20220514T041009Z
UID:10000191-1669248000-1669420799@wbcityut.gov
SUMMARY:Thanksgiving Holiday-city offices closed
DESCRIPTION:
URL:https://wbcityut.gov/event/thanksgiving-holiday-city-offices-closed-2/
CATEGORIES:Holiday
END:VEVENT
END:VCALENDAR