BEGIN:VCALENDAR
VERSION:2.0
PRODID:-//West Bountiful City - ECPv6.15.17.1//NONSGML v1.0//EN
CALSCALE:GREGORIAN
METHOD:PUBLISH
X-ORIGINAL-URL:https://wbcityut.gov
X-WR-CALDESC:Events for West Bountiful City
REFRESH-INTERVAL;VALUE=DURATION:PT1H
X-Robots-Tag:noindex
X-PUBLISHED-TTL:PT1H
BEGIN:VTIMEZONE
TZID:America/Chicago
BEGIN:DAYLIGHT
TZOFFSETFROM:-0600
TZOFFSETTO:-0500
TZNAME:CDT
DTSTART:20210314T080000
END:DAYLIGHT
BEGIN:STANDARD
TZOFFSETFROM:-0500
TZOFFSETTO:-0600
TZNAME:CST
DTSTART:20211107T070000
END:STANDARD
BEGIN:DAYLIGHT
TZOFFSETFROM:-0600
TZOFFSETTO:-0500
TZNAME:CDT
DTSTART:20220313T080000
END:DAYLIGHT
BEGIN:STANDARD
TZOFFSETFROM:-0500
TZOFFSETTO:-0600
TZNAME:CST
DTSTART:20221106T070000
END:STANDARD
BEGIN:DAYLIGHT
TZOFFSETFROM:-0600
TZOFFSETTO:-0500
TZNAME:CDT
DTSTART:20230312T080000
END:DAYLIGHT
BEGIN:STANDARD
TZOFFSETFROM:-0500
TZOFFSETTO:-0600
TZNAME:CST
DTSTART:20231105T070000
END:STANDARD
END:VTIMEZONE
BEGIN:VEVENT
DTSTART;TZID=America/Chicago:20220901T183000
DTEND;TZID=America/Chicago:20220901T193000
DTSTAMP:20260422T150012
CREATED:20211229T204928Z
LAST-MODIFIED:20220302T223843Z
UID:10000177-1662057000-1662060600@wbcityut.gov
SUMMARY:Arts Council Mtg
DESCRIPTION:AGENDA \n1.      Welcome \n2.      Minutes from February 3\, 2022 \n 3.      Susie Carter’s March Concert \n 4.      Future Concerts \n 5.      Independence Day \n          a.      Parade \n1.      Route \n2.      Who is Riding? \n6.      Teacher Appreciation  \n7.      Once Around \n8.      Adjourn
URL:https://wbcityut.gov/event/arts-council-mtg-12/2022-09-01/
CATEGORIES:Meetings
END:VEVENT
BEGIN:VEVENT
DTSTART;VALUE=DATE:20220905
DTEND;VALUE=DATE:20220906
DTSTAMP:20260422T150012
CREATED:20220106T071848Z
LAST-MODIFIED:20220514T034011Z
UID:10000187-1662336000-1662422399@wbcityut.gov
SUMMARY:Labor Day-city offices closed
DESCRIPTION:
URL:https://wbcityut.gov/event/labor-day-city-offices-closed-2/
CATEGORIES:Holiday
END:VEVENT
BEGIN:VEVENT
DTSTART;TZID=America/Chicago:20220906T193000
DTEND;TZID=America/Chicago:20220906T193000
DTSTAMP:20260422T150012
CREATED:20220826T172545Z
LAST-MODIFIED:20220826T172545Z
UID:10000247-1662492600-1662492600@wbcityut.gov
SUMMARY:Public Hearing
DESCRIPTION:            The West Bountiful City Council will hold a public hearing on Tuesday\, September 6\, 2022\, at 7:30 pm\, or as soon as agenda permits\, at the city offices\, 550 N 800 West. \n            West Bountiful is required to adopt floodplain management measures that meet or exceed the minimum National Flood Insurance Program (NFIP) regulations by September 15\, 2022. If the city does not adopt the necessary regulations\, our community will be suspended from the NFIP. This suspension means that no new policies or renewals will be issued to residents in our city. \n            The purpose of the hearing is to receive public comment regarding proposed updates to West Bountiful Municipal Code 15.16 – Flood Damage Prevention that meet the NFIP regulations. \n            All interested parties are invited to participate in the hearing.  Written comments or questions may be submitted to Recorder@wbcityut.gov prior to the meeting.
URL:https://wbcityut.gov/event/public-hearing-3/
CATEGORIES:Events
END:VEVENT
BEGIN:VEVENT
DTSTART;TZID=America/Chicago:20220906T193000
DTEND;TZID=America/Chicago:20220906T210000
DTSTAMP:20260422T150012
CREATED:20220803T165526Z
LAST-MODIFIED:20220803T165526Z
UID:10000223-1662492600-1662498000@wbcityut.gov
SUMMARY:City Council Mtg
DESCRIPTION:
URL:https://wbcityut.gov/event/city-council-mtg-28/2022-09-06/
CATEGORIES:City Council
END:VEVENT
BEGIN:VEVENT
DTSTART;TZID=America/Chicago:20220909T190000
DTEND;TZID=America/Chicago:20220909T200000
DTSTAMP:20260422T150012
CREATED:20220814T053505Z
LAST-MODIFIED:20220907T230618Z
UID:10000243-1662750000-1662753600@wbcityut.gov
SUMMARY:Arts Council Concert
DESCRIPTION:Mike Murphy To Perform at Sept 9 West Bountiful Arts Council Concert \nThe West Bountiful Arts Council will kick off its Fall/Winter Concert Series Friday\, Sept 9 at 7:00 pm\, at the West Bountiful City Hall by bringing Guitarist\, Songwriter\, Singer Mike Murphy to the stage. \nWith his love for Country Western music and the guitar\, it’s not a surprise to learn that Mike was born and raised in Eastern New Mexico and West Texas. He began his musical instruction at age 10 when he began playing the trumpet. At age 12 a friend introduced him to the guitar and a double love developed that he said\, “Has lasted his whole life”. In 1971 while performing at a resort in Colorado his life took a major turn when he met his soul mate Sherie and they were married in 1972. After graduation from Texas Tech University in 1974\, Mike was hired as band director at Viewmont High School in Bountiful where he taught band\, guitar\, and history.  In 1996\, after 22 years as band director\, he gave up the band program but continued to teach guitar and history at Viewmont where he developed a world-class guitar program and loved teaching U.S History.  Mike retired from education in 2011.  In 2007\, before he retired\, Mike opened his own guitar store\, Murphy’s Guitars on Main Street in Bountiful and ran the store for 14 very successful years\, building a landmark business and using the store to promote music throughout the community. Mike has also prospered as a singer/songwriter and has recorded and released three CD’s of his own songs\, “Standing at a Crossroads”(1996)\, “Friends”(2000)\, and “Boyhood Dreams”(2010).  \n When asked to give an overview of his Sept 9 Concert Mike said\,  “I’m excited and honored to have the opportunity to kick off the 2022-23 Concert Series for the Arts Council. The year 2021 was such an awesome year for me musically.  After I sold my guitar store\, Murphy’s Guitars\, I made a commitment to myself to create more original music and the result was a bunch of brand new songs\, many of which I feel are the best songs I’ve ever written.  I had the awesome experience of recording the songs at the amazing Jim Funk recording studio in North Salt Lake with some of the most incredible talent playing and singing back-up vocals with me.  We produced an EP of 6 new tunes that range from Country to Christian Folk.  Three of the songs have been recognized by the World Songwriting Awards contest with my Christian entries “Whispers in the Wind” and “Long Time Comin” both receiving a top 10 award. My new Country song\, “West Texas Twister” received top honors as the Best Traditional Country Song for the Spring 2022 contest period.  On the evening of September 9th I will be playing my new songs along with a few others and many of the songs from my first three albums.  Joining me on Bass will be Jason White and on percussion will be Jim Webster.  When people ask me what style of music I play\, I tell them if they liked folk artists from the 70’s and contemporary artists who play guitar and sing they will enjoy what I will be playing.   I hope you will come out and enjoy a night of free live music.”    \n  \n 
URL:https://wbcityut.gov/event/arts-council-concert-2/
CATEGORIES:Events
ATTACH;FMTTYPE=image/jpeg:https://cdn.townweb.com/wbcityut.gov/wp-content/uploads/2022/09/Arts-Murphy-Mike-2.jpg
END:VEVENT
BEGIN:VEVENT
DTSTART;TZID=America/Chicago:20220913T193000
DTEND;TZID=America/Chicago:20220913T193000
DTSTAMP:20260422T150012
CREATED:20220907T225416Z
LAST-MODIFIED:20220907T225416Z
UID:10000248-1663097400-1663097400@wbcityut.gov
SUMMARY:Public Hearing
DESCRIPTION:The Planning Commission will hold a public hearing on Tuesday\, September 13\, 2022\, beginning at 7:30 p.m. as part of their regular meeting. \nThe purpose of the hearing is to consider proposed amendments to the Housing Chapter of the City’s General Plan.  The amendments include updates to certain data to reflect growth in the city\, and the increased costs of housing combined with strategies to address housing affordability over the next several years. \nAll interested parties are invited to participate in the hearing. Written comments may be submitted to Recorder@WBCity.org  prior to the meeting.
URL:https://wbcityut.gov/event/public-hearing-4/
CATEGORIES:Events
END:VEVENT
BEGIN:VEVENT
DTSTART;TZID=America/Chicago:20220913T193000
DTEND;TZID=America/Chicago:20220913T203000
DTSTAMP:20260422T150012
CREATED:20220804T191954Z
LAST-MODIFIED:20220909T213806Z
UID:10000237-1663097400-1663101000@wbcityut.gov
SUMMARY:Planning Commission Mtg
DESCRIPTION:AGENDA \n\nPrayer/Thought – Commissioner Vest.Pledge of Allegiance – Commissioner Mitchell.\nConfirm Agenda.\nConditional Use Application – Jenny’s Daycare\, 450 N 1100 West (Applicant – Laura Torres).\nPublic Hearing – Proposed Amendments to the Housing Chapter of the West Bountiful General Plan and Strategies for Housing Affordability.\nConsider Proposed Amendments to Housing Chapter of the City’s General Plan Including Strategies for Housing Affordability.\nFuture Development Strategies.\nConsider Meeting Minutes from August 23\, 2022.\nStaff report.\nAdjourn\n\nMEETING PACKET \n 
URL:https://wbcityut.gov/event/planning-commission-mtg-27/
CATEGORIES:Meetings
END:VEVENT
BEGIN:VEVENT
DTSTART;TZID=America/Chicago:20220920T193000
DTEND;TZID=America/Chicago:20220920T210000
DTSTAMP:20260422T150012
CREATED:20240304T125143Z
LAST-MODIFIED:20240304T125143Z
UID:10000226-1663702200-1663707600@wbcityut.gov
SUMMARY:City Council Mtg
DESCRIPTION:
URL:https://wbcityut.gov/event/city-council-mtg-28/2022-09-20/
CATEGORIES:City Council
END:VEVENT
BEGIN:VEVENT
DTSTART;TZID=America/Chicago:20220927T193000
DTEND;TZID=America/Chicago:20220927T203000
DTSTAMP:20260422T150012
CREATED:20220804T192144Z
LAST-MODIFIED:20220920T183356Z
UID:10000239-1664307000-1664310600@wbcityut.gov
SUMMARY:Planning Commission Mtg - cancelled
DESCRIPTION: THE PLANNING COMMISSION MEETING SCHEDULED FOR TUESDAY\, SEPTEMBER 27\, 2022\, HAS BEEN CANCELLED.  \n THE NEXT COMMISSION MEETING WILL BE HELD ON TUESDAY\, OCTOBER 11\, 2020.  \n 
URL:https://wbcityut.gov/event/planning-commission-mtg-29/
CATEGORIES:Meetings
END:VEVENT
END:VCALENDAR