BEGIN:VCALENDAR
VERSION:2.0
PRODID:-//West Bountiful City - ECPv6.15.17.1//NONSGML v1.0//EN
CALSCALE:GREGORIAN
METHOD:PUBLISH
X-ORIGINAL-URL:https://wbcityut.gov
X-WR-CALDESC:Events for West Bountiful City
REFRESH-INTERVAL;VALUE=DURATION:PT1H
X-Robots-Tag:noindex
X-PUBLISHED-TTL:PT1H
BEGIN:VTIMEZONE
TZID:America/Chicago
BEGIN:DAYLIGHT
TZOFFSETFROM:-0600
TZOFFSETTO:-0500
TZNAME:CDT
DTSTART:20210314T080000
END:DAYLIGHT
BEGIN:STANDARD
TZOFFSETFROM:-0500
TZOFFSETTO:-0600
TZNAME:CST
DTSTART:20211107T070000
END:STANDARD
BEGIN:DAYLIGHT
TZOFFSETFROM:-0600
TZOFFSETTO:-0500
TZNAME:CDT
DTSTART:20220313T080000
END:DAYLIGHT
BEGIN:STANDARD
TZOFFSETFROM:-0500
TZOFFSETTO:-0600
TZNAME:CST
DTSTART:20221106T070000
END:STANDARD
BEGIN:DAYLIGHT
TZOFFSETFROM:-0600
TZOFFSETTO:-0500
TZNAME:CDT
DTSTART:20230312T080000
END:DAYLIGHT
BEGIN:STANDARD
TZOFFSETFROM:-0500
TZOFFSETTO:-0600
TZNAME:CST
DTSTART:20231105T070000
END:STANDARD
END:VTIMEZONE
BEGIN:VEVENT
DTSTART;TZID=America/Chicago:20220802T193000
DTEND;TZID=America/Chicago:20220802T210000
DTSTAMP:20260422T160855
CREATED:20220803T165526Z
LAST-MODIFIED:20220803T165526Z
UID:10000222-1659468600-1659474000@wbcityut.gov
SUMMARY:City Council Mtg
DESCRIPTION:
URL:https://wbcityut.gov/event/city-council-mtg-28/2022-08-02/
CATEGORIES:City Council
END:VEVENT
BEGIN:VEVENT
DTSTART;TZID=America/Chicago:20220809T193000
DTEND;TZID=America/Chicago:20220809T210000
DTSTAMP:20260422T160855
CREATED:20220804T191641Z
LAST-MODIFIED:20220804T191641Z
UID:10000235-1660073400-1660078800@wbcityut.gov
SUMMARY:Planning Commission Mtg
DESCRIPTION:
URL:https://wbcityut.gov/event/planning-commission-mtg-21/
CATEGORIES:Meetings
END:VEVENT
BEGIN:VEVENT
DTSTART;TZID=America/Chicago:20220816T173000
DTEND;TZID=America/Chicago:20220816T183000
DTSTAMP:20260422T160855
CREATED:20220808T220806Z
LAST-MODIFIED:20220815T223703Z
UID:10000242-1660671000-1660674600@wbcityut.gov
SUMMARY:EmPAC Mtg
DESCRIPTION:AGENDA \n\nApproval of Minutes from the May 17\,2022 meeting\nRadio Discussion\nCERT Classes\nRoundtable Discussion\nAdjourn
URL:https://wbcityut.gov/event/empac-mtg-4/
CATEGORIES:Meetings
END:VEVENT
BEGIN:VEVENT
DTSTART;TZID=America/Chicago:20220816T183000
DTEND;TZID=America/Chicago:20220816T191500
DTSTAMP:20260422T160855
CREATED:20220815T083236Z
LAST-MODIFIED:20220815T223835Z
UID:10000245-1660674600-1660677300@wbcityut.gov
SUMMARY:City Council Worksession
DESCRIPTION:The City Council will hold a worksession beginning at 6:30 pm at city hall for the purpose of a presentation by South Davis Metro Fire.
URL:https://wbcityut.gov/event/city-council-worksession/
CATEGORIES:Meetings
END:VEVENT
BEGIN:VEVENT
DTSTART;TZID=America/Chicago:20220816T193000
DTEND;TZID=America/Chicago:20220816T210000
DTSTAMP:20260422T160855
CREATED:20240304T125143Z
LAST-MODIFIED:20240304T125143Z
UID:10000225-1660678200-1660683600@wbcityut.gov
SUMMARY:City Council Mtg
DESCRIPTION:
URL:https://wbcityut.gov/event/city-council-mtg-28/2022-08-16/
CATEGORIES:City Council
END:VEVENT
BEGIN:VEVENT
DTSTART;TZID=America/Chicago:20220823T193000
DTEND;TZID=America/Chicago:20220823T194000
DTSTAMP:20260422T160855
CREATED:20220815T081404Z
LAST-MODIFIED:20220815T081404Z
UID:10000244-1661283000-1661283600@wbcityut.gov
SUMMARY:Public Hearing
DESCRIPTION: The Planning Commission will hold a public hearing at City Hall on Tuesday\, August 23\, 2022\, beginning at 7:30 p.m. as part of their regular meeting. \nThe purpose of the hearing is to receive public comment on updates to the city’s landscape regulations that will impact the following sections of West Bountiful Municipal Code: \n\nWBMC 12.28 – Water Efficient Landscape Standards – miscellaneous clarifications.\nTitle 17 Development Standards for Non-Residential Zones – miscellaneous changes to be consistent with WBMC 12.28.\nWBMC 17.52 – Off-Street Parking – Landscaping Updates.\nWBMC 12.040 – Movement of Buildings – Updates to be consistent with WBMC 12.28.\n\nMore information can be found in the Public Notices section. All interested parties are invited to participate in the hearing. Written comments may be submitted prior to the meeting to Recorder@WBCity.org.
URL:https://wbcityut.gov/event/public-hearing-2/
CATEGORIES:Events
END:VEVENT
BEGIN:VEVENT
DTSTART;TZID=America/Chicago:20220823T193000
DTEND;TZID=America/Chicago:20220823T203000
DTSTAMP:20260422T160855
CREATED:20220804T192043Z
LAST-MODIFIED:20220820T020915Z
UID:10000238-1661283000-1661286600@wbcityut.gov
SUMMARY:Planning Commission Mtg
DESCRIPTION:AGENDA: \n\nPrayer/Thought – Commissioner Sweat.Pledge of Allegiance – Commissioner Vest.\nConfirm Agenda.\nPublic Hearing – Updates to Landscape Regulations.\nBelmont Farms Subdivision (Ivory Development) – Phase 1\, Preliminary & Final Plat.\nConsider Updates to Landscape Regulations.\nFlood Damage Prevention Review.\nModerate Income Housing Review.\nConsider Meeting Minutes from August 9\, 2022.\nStaff report.\nAdjourn\n\nMeeting Packet \n 
URL:https://wbcityut.gov/event/planning-commission-mtg-28/
CATEGORIES:Meetings
END:VEVENT
BEGIN:VEVENT
DTSTART;TZID=America/Chicago:20220825T170000
DTEND;TZID=America/Chicago:20220825T180000
DTSTAMP:20260422T160855
CREATED:20220804T191839Z
LAST-MODIFIED:20220804T191839Z
UID:10000236-1661446800-1661450400@wbcityut.gov
SUMMARY:Youth Council Mtg
DESCRIPTION:
URL:https://wbcityut.gov/event/youth-council-mtg-9/
CATEGORIES:Meetings
END:VEVENT
BEGIN:VEVENT
DTSTART;TZID=America/Chicago:20220826T180000
DTEND;TZID=America/Chicago:20220826T210000
DTSTAMP:20260422T160855
CREATED:20220822T155842Z
LAST-MODIFIED:20220822T155842Z
UID:10000246-1661536800-1661547600@wbcityut.gov
SUMMARY:Safety Fair
DESCRIPTION:Don’t miss this fun and informative event!
URL:https://wbcityut.gov/event/safety-fair/
CATEGORIES:Events
ATTACH;FMTTYPE=image/jpeg:https://cdn.townweb.com/wbcityut.gov/wp-content/uploads/2022/08/safety-fair3-1.jpg
END:VEVENT
END:VCALENDAR