BEGIN:VCALENDAR
VERSION:2.0
PRODID:-//West Bountiful City - ECPv6.15.17.1//NONSGML v1.0//EN
CALSCALE:GREGORIAN
METHOD:PUBLISH
X-WR-CALNAME:West Bountiful City
X-ORIGINAL-URL:https://wbcityut.gov
X-WR-CALDESC:Events for West Bountiful City
REFRESH-INTERVAL;VALUE=DURATION:PT1H
X-Robots-Tag:noindex
X-PUBLISHED-TTL:PT1H
BEGIN:VTIMEZONE
TZID:America/Chicago
BEGIN:DAYLIGHT
TZOFFSETFROM:-0600
TZOFFSETTO:-0500
TZNAME:CDT
DTSTART:20210314T080000
END:DAYLIGHT
BEGIN:STANDARD
TZOFFSETFROM:-0500
TZOFFSETTO:-0600
TZNAME:CST
DTSTART:20211107T070000
END:STANDARD
BEGIN:DAYLIGHT
TZOFFSETFROM:-0600
TZOFFSETTO:-0500
TZNAME:CDT
DTSTART:20220313T080000
END:DAYLIGHT
BEGIN:STANDARD
TZOFFSETFROM:-0500
TZOFFSETTO:-0600
TZNAME:CST
DTSTART:20221106T070000
END:STANDARD
BEGIN:DAYLIGHT
TZOFFSETFROM:-0600
TZOFFSETTO:-0500
TZNAME:CDT
DTSTART:20230312T080000
END:DAYLIGHT
BEGIN:STANDARD
TZOFFSETFROM:-0500
TZOFFSETTO:-0600
TZNAME:CST
DTSTART:20231105T070000
END:STANDARD
END:VTIMEZONE
BEGIN:VEVENT
DTSTART;TZID=America/Chicago:20220704T000000
DTEND;TZID=America/Chicago:20220704T233000
DTSTAMP:20260422T173839
CREATED:20220106T071122Z
LAST-MODIFIED:20220704T025300Z
UID:10000185-1656892800-1656977400@wbcityut.gov
SUMMARY:Independence Day-city offices closed-No garbage pick-up
DESCRIPTION:
URL:https://wbcityut.gov/event/independence-day-city-offices-closed/
CATEGORIES:Holiday
END:VEVENT
BEGIN:VEVENT
DTSTART;TZID=America/Chicago:20220704T073000
DTEND;TZID=America/Chicago:20220704T220000
DTSTAMP:20260422T173839
CREATED:20220211T201358Z
LAST-MODIFIED:20220624T213843Z
UID:10000103-1656919800-1656972000@wbcityut.gov
SUMMARY:JULY 4 CELEBRATION
DESCRIPTION:7:30 am Flag raising at city hall\, \n10:30 am Parade – beginning at 400 N/800 W\, north to Pages Ln\, east to 600 W\, north to Stake Center \n11:00 – 2:00 Park Activities/Carnival \n8:00 Bands at city park \n10:00 pm Fireworks
URL:https://wbcityut.gov/event/july-4-celebration/
CATEGORIES:Events
END:VEVENT
BEGIN:VEVENT
DTSTART;TZID=America/Chicago:20220712T193000
DTEND;TZID=America/Chicago:20220712T203000
DTSTAMP:20260422T173839
CREATED:20220516T210109Z
LAST-MODIFIED:20220516T210109Z
UID:10000217-1657654200-1657657800@wbcityut.gov
SUMMARY:Planning Commission Mtg
DESCRIPTION:
URL:https://wbcityut.gov/event/planning-commission-mtg-25/
CATEGORIES:Events
END:VEVENT
BEGIN:VEVENT
DTSTART;TZID=America/Chicago:20220719T193000
DTEND;TZID=America/Chicago:20220719T200000
DTSTAMP:20260422T173839
CREATED:20220708T225119Z
LAST-MODIFIED:20220708T225119Z
UID:10000221-1658259000-1658260800@wbcityut.gov
SUMMARY:Public Hearing
DESCRIPTION:
URL:https://wbcityut.gov/event/public-hearing/
CATEGORIES:City Council
ATTACH;FMTTYPE=application/pdf:https://cdn.townweb.com/wbcityut.gov/wp-content/uploads/2022/07/Hearing-CC-2022-07-19-Plat-Amend-Easement-Lindsey.pdf
END:VEVENT
BEGIN:VEVENT
DTSTART;TZID=America/Chicago:20220725T000000
DTEND;TZID=America/Chicago:20220725T000000
DTSTAMP:20260422T173839
CREATED:20220106T071700Z
LAST-MODIFIED:20220106T071700Z
UID:10000186-1658707200-1658707200@wbcityut.gov
SUMMARY:Pioneer Day-city offices closed
DESCRIPTION:
URL:https://wbcityut.gov/event/pioneer-day-city-offices-closed-2/
CATEGORIES:Holiday
END:VEVENT
END:VCALENDAR