BEGIN:VCALENDAR
VERSION:2.0
PRODID:-//West Bountiful City - ECPv6.15.17.1//NONSGML v1.0//EN
CALSCALE:GREGORIAN
METHOD:PUBLISH
X-ORIGINAL-URL:https://wbcityut.gov
X-WR-CALDESC:Events for West Bountiful City
REFRESH-INTERVAL;VALUE=DURATION:PT1H
X-Robots-Tag:noindex
X-PUBLISHED-TTL:PT1H
BEGIN:VTIMEZONE
TZID:America/Chicago
BEGIN:DAYLIGHT
TZOFFSETFROM:-0600
TZOFFSETTO:-0500
TZNAME:CDT
DTSTART:20210314T080000
END:DAYLIGHT
BEGIN:STANDARD
TZOFFSETFROM:-0500
TZOFFSETTO:-0600
TZNAME:CST
DTSTART:20211107T070000
END:STANDARD
BEGIN:DAYLIGHT
TZOFFSETFROM:-0600
TZOFFSETTO:-0500
TZNAME:CDT
DTSTART:20220313T080000
END:DAYLIGHT
BEGIN:STANDARD
TZOFFSETFROM:-0500
TZOFFSETTO:-0600
TZNAME:CST
DTSTART:20221106T070000
END:STANDARD
BEGIN:DAYLIGHT
TZOFFSETFROM:-0600
TZOFFSETTO:-0500
TZNAME:CDT
DTSTART:20230312T080000
END:DAYLIGHT
BEGIN:STANDARD
TZOFFSETFROM:-0500
TZOFFSETTO:-0600
TZNAME:CST
DTSTART:20231105T070000
END:STANDARD
END:VTIMEZONE
BEGIN:VEVENT
DTSTART;TZID=America/Chicago:20220505T183000
DTEND;TZID=America/Chicago:20220505T193000
DTSTAMP:20260422T195943
CREATED:20211229T204928Z
LAST-MODIFIED:20220302T223843Z
UID:10000176-1651775400-1651779000@wbcityut.gov
SUMMARY:Arts Council Mtg
DESCRIPTION:AGENDA \n1.      Welcome \n2.      Minutes from February 3\, 2022 \n 3.      Susie Carter’s March Concert \n 4.      Future Concerts \n 5.      Independence Day \n          a.      Parade \n1.      Route \n2.      Who is Riding? \n6.      Teacher Appreciation  \n7.      Once Around \n8.      Adjourn
URL:https://wbcityut.gov/event/arts-council-mtg-12/2022-05-05/
CATEGORIES:Meetings
END:VEVENT
BEGIN:VEVENT
DTSTART;TZID=America/Chicago:20220508T000000
DTEND;TZID=America/Chicago:20220508T030000
DTSTAMP:20260422T195943
CREATED:20220106T070437Z
LAST-MODIFIED:20220106T070437Z
UID:10000182-1651968000-1651978800@wbcityut.gov
SUMMARY:Mother's Day
DESCRIPTION:
URL:https://wbcityut.gov/event/mothers-day/
CATEGORIES:Holiday
END:VEVENT
BEGIN:VEVENT
DTSTART;TZID=America/Chicago:20220510T193000
DTEND;TZID=America/Chicago:20220510T200000
DTSTAMP:20260422T195943
CREATED:20211229T203903Z
LAST-MODIFIED:20211229T203903Z
UID:10000172-1652211000-1652212800@wbcityut.gov
SUMMARY:Planning Commission Mtg
DESCRIPTION:
URL:https://wbcityut.gov/event/planning-commission-mtg-24/2022-05-10/
CATEGORIES:Meetings
END:VEVENT
BEGIN:VEVENT
DTSTART;TZID=America/Chicago:20220513T190000
DTEND;TZID=America/Chicago:20220513T200000
DTSTAMP:20260422T195943
CREATED:20220211T171648Z
LAST-MODIFIED:20220429T232913Z
UID:10000202-1652468400-1652472000@wbcityut.gov
SUMMARY:Arts Council Young Artist’s Concert
DESCRIPTION:This year’s annual Young Artist Concert\, hosted by the West Bountiful City Arts Council\, on Friday May 13\, will celebrate the developing talents of young artists ages 5 to 18. \n A select choir from West Bountiful Elementary under the direction of teachers\, Melanie Miller and Ronda Dalrymple Turnblom\, will treat concertgoers to a special performance. The full choir of K-6 students rehearses one morning a week at 7:45.  They usually perform twice a year\, at Christmastime and in the spring\, and have performed at the Dicken’s Festival as well as at several care centers. This select choir of 28 will be made up of 6th graders and their siblings. They will sing “You’re Welcome” from Moana; and “When I Grow Up” from Matilda. \n  \n The program will also showcase 9 special grandchildren with a variety of developing talents and include\, a dance routine to music from “High School Musical”\, organized and directed by a 12 year old granddaughter\, 2 vocal solos (ages 8 and 12)\, a grandma granddaughter piano duet\, and a Karate demonstration by two great-great grandsons (ages 4 and 7). The evening will culminate with a performance by an 18-year-old granddaughter soprano soloist\, who recently performed in New York City with her Madrigal group. \n  \n Please join us\, Friday May 13 at 7:00 PM\, for this final concert of our Winter/Spring concert series. We also invite you to join us again the 2nd Friday of September when our 2022 Fall/Winter concert series begins and will bring the talented Mike Murphy: composer\, guitarist\, and vocalist to our concert stage. \n 
URL:https://wbcityut.gov/event/arts-council-concert-young-arts-showcase/
CATEGORIES:Events
END:VEVENT
BEGIN:VEVENT
DTSTART;TZID=America/Chicago:20220517T193000
DTEND;TZID=America/Chicago:20220517T203000
DTSTAMP:20260422T195943
CREATED:20211229T203613Z
LAST-MODIFIED:20220416T053807Z
UID:10000166-1652815800-1652819400@wbcityut.gov
SUMMARY:City Council Mtg
DESCRIPTION:
URL:https://wbcityut.gov/event/city-council-mtg-27/2022-05-17/
CATEGORIES:Meetings
END:VEVENT
BEGIN:VEVENT
DTSTART;TZID=America/Chicago:20220519T190000
DTEND;TZID=America/Chicago:20220519T200000
DTSTAMP:20260422T195943
CREATED:20220429T233609Z
LAST-MODIFIED:20220429T233609Z
UID:10000123-1652986800-1652990400@wbcityut.gov
SUMMARY:Backflow Class
DESCRIPTION:
URL:https://wbcityut.gov/event/backflow-class/
CATEGORIES:Meetings
END:VEVENT
BEGIN:VEVENT
DTSTART;TZID=America/Chicago:20220523T190000
DTEND;TZID=America/Chicago:20220523T200000
DTSTAMP:20260422T195943
CREATED:20220523T231440Z
LAST-MODIFIED:20220523T231440Z
UID:10000218-1653332400-1653336000@wbcityut.gov
SUMMARY:Budget Hearings
DESCRIPTION:PUBLIC HEARINGS  \nThe West Bountiful City Council will hold two public hearings at the city offices\, 550 N 800 West\, on June 7\, 2022 at 7:30 p\,or as soon thereafter as agenda allows.  \n\nThe purpose of the first hearing is to receive input on the FY 2022-2023 Tentative Budget\, including the West Bountiful Redevelopment Agency. The Tentative Budget includes a proposed 7% increase in the city’s pay scale\, including elected officials.\nThe purpose of the second hearing to receive input on Amendments to the FY 2021-2022 Budget.\n\nFiscal Year 2023 Tentative Budget Message.  \nAll interested parties are invited to participate in the hearing. Written comments may be submitted to Recorder@wbcityut.gov prior to the meeting.
URL:https://wbcityut.gov/event/budget-hearings-2/
CATEGORIES:Events
END:VEVENT
BEGIN:VEVENT
DTSTART;TZID=America/Chicago:20220524T193000
DTEND;TZID=America/Chicago:20220524T200000
DTSTAMP:20260422T195943
CREATED:20220512T004907Z
LAST-MODIFIED:20220512T011432Z
UID:10000125-1653420600-1653422400@wbcityut.gov
SUMMARY:Public Hearing-Land Use
DESCRIPTION:The purpose of the hearings is to receive public comment on the following proposals by Onion Patch Securities\, LLC and Manheim Remarketing\, Inc.: \n   1.      Proposed text change creates an Outdoor Vehicle Storage Overlay (“OVSO”) zone (WBMC 17.46) and modifies Outdoor Storage Section (WBMC 17.92). \n2.      Re-zone proposes to change the zone of the Onion Patch leased land to the Commercial Highway zone as a conditional use and insert it into the newly created OVSO zone.    \n      (See Related Documents)
URL:https://wbcityut.gov/event/public-hearing-land-use/
CATEGORIES:Events
END:VEVENT
BEGIN:VEVENT
DTSTART;TZID=America/Chicago:20220524T193000
DTEND;TZID=America/Chicago:20220524T203000
DTSTAMP:20260422T195943
CREATED:20211229T203759Z
LAST-MODIFIED:20220218T231651Z
UID:10000170-1653420600-1653424200@wbcityut.gov
SUMMARY:Planning Commission Mtg
DESCRIPTION:AGENDA: \n1. Prayer/Thought – Commissioner Vest. \n        Pledge of Allegiance – Commissioner Mitchell. \n2. Confirm Agenda. \n3. Discuss Public Improvement Requirements as a Condition of a Building Permit. \n4. Discuss Clarifications for Yard Regulations in Residential Zones. \n5. Consider Meeting Minutes from February 8\, 2022. \n6. Staff report. \n7. Adjourn \nElectronic Meeting Packet  
URL:https://wbcityut.gov/event/planning-commission-mtg-23/2022-05-24/
CATEGORIES:Events
END:VEVENT
BEGIN:VEVENT
DTSTART;VALUE=DATE:20220530
DTEND;VALUE=DATE:20220531
DTSTAMP:20260422T195943
CREATED:20220106T070626Z
LAST-MODIFIED:20220514T031431Z
UID:10000183-1653868800-1653955199@wbcityut.gov
SUMMARY:Memorial Day-city offices closed
DESCRIPTION:
URL:https://wbcityut.gov/event/memorial-day-city-offices-closed-2/
CATEGORIES:Holiday
END:VEVENT
END:VCALENDAR