BEGIN:VCALENDAR
VERSION:2.0
PRODID:-//West Bountiful City - ECPv6.15.17.1//NONSGML v1.0//EN
CALSCALE:GREGORIAN
METHOD:PUBLISH
X-WR-CALNAME:West Bountiful City
X-ORIGINAL-URL:https://wbcityut.gov
X-WR-CALDESC:Events for West Bountiful City
REFRESH-INTERVAL;VALUE=DURATION:PT1H
X-Robots-Tag:noindex
X-PUBLISHED-TTL:PT1H
BEGIN:VTIMEZONE
TZID:America/Chicago
BEGIN:DAYLIGHT
TZOFFSETFROM:-0600
TZOFFSETTO:-0500
TZNAME:CDT
DTSTART:20210314T080000
END:DAYLIGHT
BEGIN:STANDARD
TZOFFSETFROM:-0500
TZOFFSETTO:-0600
TZNAME:CST
DTSTART:20211107T070000
END:STANDARD
BEGIN:DAYLIGHT
TZOFFSETFROM:-0600
TZOFFSETTO:-0500
TZNAME:CDT
DTSTART:20220313T080000
END:DAYLIGHT
BEGIN:STANDARD
TZOFFSETFROM:-0500
TZOFFSETTO:-0600
TZNAME:CST
DTSTART:20221106T070000
END:STANDARD
BEGIN:DAYLIGHT
TZOFFSETFROM:-0600
TZOFFSETTO:-0500
TZNAME:CDT
DTSTART:20230312T080000
END:DAYLIGHT
BEGIN:STANDARD
TZOFFSETFROM:-0500
TZOFFSETTO:-0600
TZNAME:CST
DTSTART:20231105T070000
END:STANDARD
END:VTIMEZONE
BEGIN:VEVENT
DTSTART;TZID=America/Chicago:20220201T193000
DTEND;TZID=America/Chicago:20220201T193000
DTSTAMP:20260422T233804
CREATED:20211210T011850Z
LAST-MODIFIED:20220131T231831Z
UID:10000152-1643743800-1643743800@wbcityut.gov
SUMMARY:City Council Mtg
DESCRIPTION: Online Participation Available: https://us02web.zoom.us/j/89709081978   Zoom Meeting ID: 897 0908 1978 \n1.      AGENDA: \nA        Approve Agenda. \n2.       Public Comment – Two minutes per person; five minutes if speaking on behalf of a group. \n3.       Public Hearing on Proposed First Amendments to FY 2021-2022 Budget. \n4.       Resolution 510-22\, A Resolution Adopting Proposed First Amendments to FY 2021-2022 Budget. \n5.       Resolution 511-22\, A Resolution Granting a Right of Way Easement to Rocky Mountain Power at 1410 W 1200 North (Public Works Facility). \n6.       Meeting Minutes from January 18\, 2022. \n7.       Staff Reports – Police\, Public Works\, Engineering\, Community Development\, Administration. \n8.       Mayor/Council Reports. \n9.       Closed Session for the Purpose of Discussing Items Allowed Pursuant to UCA § 52-4-205. \nAdjourn \nELECTRONIC MEETING PACKET \n 
URL:https://wbcityut.gov/event/city-council-mtg-23/
LOCATION:City Hall\, 550 North 800 West\, West Bountiful\, UT\, 84087\, United States
CATEGORIES:City Council
END:VEVENT
BEGIN:VEVENT
DTSTART;TZID=America/Chicago:20220201T193000
DTEND;TZID=America/Chicago:20220201T193000
DTSTAMP:20260422T233804
CREATED:20220124T165010Z
LAST-MODIFIED:20220124T200935Z
UID:10000196-1643743800-1643743800@wbcityut.gov
SUMMARY:Public Hearing-Budget Amendment
DESCRIPTION:            West Bountiful City Council will hold a public hearing on Tuesday\, February 1\, 2022\, at 7:30 pm\, or as soon as agenda permits. The hearing will be held at the city offices\, 550 N 800 West.  \n          The purpose of the hearing is to receive input on tentative amendments to the FY 2021-2022 budget. A copy of the proposed documents may be viewed HERE. All interested parties are invited to participate in the hearing. Written comments may be submitted to the City Offices prior to the meeting. \n 
URL:https://wbcityut.gov/event/public-hearing-budget-amendment/
CATEGORIES:City Council
END:VEVENT
BEGIN:VEVENT
DTSTART;TZID=America/Chicago:20220203T183000
DTEND;TZID=America/Chicago:20220203T213000
DTSTAMP:20260422T233804
CREATED:20211210T011922Z
LAST-MODIFIED:20220202T225631Z
UID:10000153-1643913000-1643923800@wbcityut.gov
SUMMARY:Arts Council Mtg
DESCRIPTION:AGENDA: \n            1.      Welcome \n 2.      Welcome the Laytons \n 3.      Fourth of July \n          a.      Parade \n          b.      Activities at the Park \n          c.       Emily’s requests \n        4.      Discuss next concert – Mike Leger \n 5.      Discuss Future Concerts \n 6.      Discuss Streaming Needs \n        a.      City WIFI \n         7.      Davis Journal \n 8.      Once Around \n 9.      Adjourn
URL:https://wbcityut.gov/event/arts-council-mtg-11/
LOCATION:City Hall\, 550 North 800 West\, West Bountiful\, UT\, 84087\, United States
CATEGORIES:Events
END:VEVENT
BEGIN:VEVENT
DTSTART;TZID=America/Chicago:20220208T193000
DTEND;TZID=America/Chicago:20220208T193000
DTSTAMP:20260422T233804
CREATED:20211210T011953Z
LAST-MODIFIED:20220205T002054Z
UID:10000154-1644348600-1644348600@wbcityut.gov
SUMMARY:Planning Commission Mtg
DESCRIPTION:AGENDA: \n1.      Prayer/Thought – Commissioner Sweat.  Pledge of Allegiance – Dennis Vest. \n2.      Confirm Agenda. \n3.      Discuss Public Improvement Requirements as a Condition of a Building Permit. \n4.      Consider Meeting Minutes from January 25\, 2022. \n5.      Staff report. \n6.      Training. \n  \n7.      Adjourn. \n  \nMeeting Packet
URL:https://wbcityut.gov/event/planning-commission-mtg-20/
CATEGORIES:Events
END:VEVENT
BEGIN:VEVENT
DTSTART;TZID=America/Chicago:20220210T170000
DTEND;TZID=America/Chicago:20220210T180000
DTSTAMP:20260422T233804
CREATED:20211210T012027Z
LAST-MODIFIED:20220209T225150Z
UID:10000155-1644512400-1644516000@wbcityut.gov
SUMMARY:Youth Council Mtg
DESCRIPTION:  \n1.             Welcome/Attendance \n2.             Pledge of Allegiance \n3.             Youth Thought  \n4.             Approve Minutes from January 13\, 2022 \n5.             Treasurer’s Report \n6.             YCC Theme – “Not One But All\, We Make The Change Together.” How can we make it a part of us? \n7.             Other Business: \n  a.       Discuss Scheduling a Racial Unity Presentation \n  b.       Discuss Easter Egg Scramble (April 16)   \n8.             Open Meeting Training – Cathy Brightwell \n9.             Next Meeting – March 10\, 2022 \n10.         Adjourn \n  \n 
URL:https://wbcityut.gov/event/youth-council-mtg-6/
LOCATION:City Hall\, 550 North 800 West\, West Bountiful\, UT\, 84087\, United States
CATEGORIES:Meetings
END:VEVENT
BEGIN:VEVENT
DTSTART;TZID=America/Chicago:20220211T190000
DTEND;TZID=America/Chicago:20220211T190000
DTSTAMP:20260422T233804
CREATED:20211210T012112Z
LAST-MODIFIED:20220207T071908Z
UID:10000156-1644606000-1644606000@wbcityut.gov
SUMMARY:Arts Council Concert - Lesley & Mike Leger
DESCRIPTION:The West Bountiful Arts Council is happy to present Lesley & Mike Leger who will perform at the February Concert at city hall. Don’t miss these two fun and talented performers as they entertain with music everyone knows and loves.
URL:https://wbcityut.gov/event/arts-council-concert-mike-leger-friends/
LOCATION:City Hall\, 550 North 800 West\, West Bountiful\, UT\, 84087\, United States
CATEGORIES:Events
END:VEVENT
BEGIN:VEVENT
DTSTART;TZID=America/Chicago:20220215T193000
DTEND;TZID=America/Chicago:20220215T203000
DTSTAMP:20260422T233804
CREATED:20211210T012137Z
LAST-MODIFIED:20220214T081223Z
UID:10000157-1644953400-1644957000@wbcityut.gov
SUMMARY:City Council Mtg
DESCRIPTION:Online Participation Available: https://us02web.zoom.us/j/84408263937 \nAGENDA:   \n  \n1.       Approve Agenda. \n2.       Public Comment – Two minutes per person; five minutes if speaking on behalf of a group. \n3.       Wildlife Control – Davis County Animal Care\, Director Ashleigh Young. \n4.       Resolution 512-22\, Baseball Facilities Use Agreement. \n5.       Purchase Approvals:\n    a.    Accounting Services: $12\,000. \nb.          b.    Updates to Transportation Capital Facilities Plan and Impact Fee Facilities Plan: $19\,500. \n6.       Meeting Minutes from February 1\, 2022. \n7.       Staff Reports – Police\, Public Works\, Engineering\, Community Development\, Administration. \n8.       Mayor/Council Reports. \n9.       Closed Session for the Purpose of Discussing Items Allowed Pursuant to UCA § 52-4-205. \n10.    Adjourn.
URL:https://wbcityut.gov/event/city-council-mtg-24/
CATEGORIES:City Council
END:VEVENT
BEGIN:VEVENT
DTSTART;VALUE=DATE:20220221
DTEND;VALUE=DATE:20220222
DTSTAMP:20260422T233804
CREATED:20211210T012226Z
LAST-MODIFIED:20211210T012226Z
UID:10000158-1645401600-1645487999@wbcityut.gov
SUMMARY:President's Day - City Offices Closed
DESCRIPTION:
URL:https://wbcityut.gov/event/presidents-day-city-offices-closed-2/
CATEGORIES:Holiday
END:VEVENT
BEGIN:VEVENT
DTSTART;TZID=America/Chicago:20220222T193000
DTEND;TZID=America/Chicago:20220222T203000
DTSTAMP:20260422T233804
CREATED:20211229T203759Z
LAST-MODIFIED:20220218T231651Z
UID:10000167-1645558200-1645561800@wbcityut.gov
SUMMARY:Planning Commission Mtg
DESCRIPTION:AGENDA: \n1. Prayer/Thought – Commissioner Vest. \n        Pledge of Allegiance – Commissioner Mitchell. \n2. Confirm Agenda. \n3. Discuss Public Improvement Requirements as a Condition of a Building Permit. \n4. Discuss Clarifications for Yard Regulations in Residential Zones. \n5. Consider Meeting Minutes from February 8\, 2022. \n6. Staff report. \n7. Adjourn \nElectronic Meeting Packet  
URL:https://wbcityut.gov/event/planning-commission-mtg-23/2022-02-22/
CATEGORIES:Events
END:VEVENT
BEGIN:VEVENT
DTSTART;TZID=America/Chicago:20220225T170000
DTEND;TZID=America/Chicago:20220225T180000
DTSTAMP:20260422T233804
CREATED:20220225T215404Z
LAST-MODIFIED:20220225T215404Z
UID:10000112-1645808400-1645812000@wbcityut.gov
SUMMARY:Youth Council Work Mtg
DESCRIPTION:Members will meet to begin preparations for Easter Egg Scramble
URL:https://wbcityut.gov/event/youth-council-work-mtg/
CATEGORIES:Events
END:VEVENT
END:VCALENDAR