BEGIN:VCALENDAR
VERSION:2.0
PRODID:-//West Bountiful City - ECPv6.15.17.1//NONSGML v1.0//EN
CALSCALE:GREGORIAN
METHOD:PUBLISH
X-WR-CALNAME:West Bountiful City
X-ORIGINAL-URL:https://wbcityut.gov
X-WR-CALDESC:Events for West Bountiful City
REFRESH-INTERVAL;VALUE=DURATION:PT1H
X-Robots-Tag:noindex
X-PUBLISHED-TTL:PT1H
BEGIN:VTIMEZONE
TZID:America/Chicago
BEGIN:DAYLIGHT
TZOFFSETFROM:-0600
TZOFFSETTO:-0500
TZNAME:CDT
DTSTART:20210314T080000
END:DAYLIGHT
BEGIN:STANDARD
TZOFFSETFROM:-0500
TZOFFSETTO:-0600
TZNAME:CST
DTSTART:20211107T070000
END:STANDARD
BEGIN:DAYLIGHT
TZOFFSETFROM:-0600
TZOFFSETTO:-0500
TZNAME:CDT
DTSTART:20220313T080000
END:DAYLIGHT
BEGIN:STANDARD
TZOFFSETFROM:-0500
TZOFFSETTO:-0600
TZNAME:CST
DTSTART:20221106T070000
END:STANDARD
BEGIN:DAYLIGHT
TZOFFSETFROM:-0600
TZOFFSETTO:-0500
TZNAME:CDT
DTSTART:20230312T080000
END:DAYLIGHT
BEGIN:STANDARD
TZOFFSETFROM:-0500
TZOFFSETTO:-0600
TZNAME:CST
DTSTART:20231105T070000
END:STANDARD
END:VTIMEZONE
BEGIN:VEVENT
DTSTART;TZID=America/Chicago:20220104T193000
DTEND;TZID=America/Chicago:20220104T203000
DTSTAMP:20260423T005031
CREATED:20211210T011510Z
LAST-MODIFIED:20220103T232711Z
UID:10000144-1641324600-1641328200@wbcityut.gov
SUMMARY:City Council Mtg
DESCRIPTION:AGENDA: \n Invocation/Thought – By Kelly Enquist; Pledge of Allegiance – By Rod Wood \n\n Approve Agenda.\n       Oath of Office – Mayor Kenneth Romney\, Council Members Kelly Enquist and Mark Preece.\n       Public Comment – two minutes per person\, or five minutes if speaking on behalf of a group.\n       Resolution 508-22\, A Resolution Approving Amendment 7 to the Interlocal Cooperation Agreement Between Davis County and City of West Bountiful for Animal Control Services.\n       Resolution 509-22\, A Resolution Adjusting Pay Scale for Police Department.\n       Meeting Minutes from December 21\, 2021.\n       Staff Reports – Police\, Public Works\, Engineering\, Community Development\, Administration.\n       Mayor/Council Reports.\n       Closed Session for the Purpose of Discussing Items Allowed Pursuant to UCA § 52-4-205.\n.      Adjourn.\n\nOnline Participation Available: https://us02web.zoom.us/j/84705395456 \nCity Council Meeting Agenda & Packet
URL:https://wbcityut.gov/event/city-council-mtg-21/
CATEGORIES:City Council
END:VEVENT
BEGIN:VEVENT
DTSTART;TZID=America/Chicago:20220106T183000
DTEND;TZID=America/Chicago:20220106T183000
DTSTAMP:20260423T005031
CREATED:20211210T011539Z
LAST-MODIFIED:20220106T005544Z
UID:10000145-1641493800-1641493800@wbcityut.gov
SUMMARY:Arts Council Mtg
DESCRIPTION: THE WEST BOUNTIFUL ARTS COUNCIL WILL HOLD ITS REGULAR MEETING VIA ZOOM ON \n THURSDAY\, JANUARY 6\, 2022\, AT 6:30 PM \n  \nJoin Zoom Meeting:  https://us02web.zoom.us/j/88994774762?pwd=WDhlamlOQ1Q3aXpGc3gxOWRmYngwdz09 \n  \nAGENDA: \n1. Greeting \n2. Minutes \n3. Discuss Options for Andy Leger’s Concert \n4. Discuss Future Concerts \n5. Discuss Recording \n6. Report Conversation with Mayor – Park Christmas Decorations \n7. Once Around \n8. Adjourn
URL:https://wbcityut.gov/event/arts-council-mtg-10/
LOCATION:City Hall\, 550 North 800 West\, West Bountiful\, UT\, 84087\, United States
CATEGORIES:Meetings
END:VEVENT
BEGIN:VEVENT
DTSTART;VALUE=DATE:20220110
DTEND;VALUE=DATE:20220112
DTSTAMP:20260423T005031
CREATED:20211229T201146Z
LAST-MODIFIED:20211229T201327Z
UID:10000162-1641772800-1641945599@wbcityut.gov
SUMMARY:Christmas Tree pick-up
DESCRIPTION:Christmas trees will be collected with normal garbage on January 10 & 11. Remove all lights and decorations and place at curb.
URL:https://wbcityut.gov/event/christmas-tree-pick-up-2/
END:VEVENT
BEGIN:VEVENT
DTSTART;TZID=America/Chicago:20220111T193000
DTEND;TZID=America/Chicago:20220111T193000
DTSTAMP:20260423T005031
CREATED:20211210T011603Z
LAST-MODIFIED:20220106T223539Z
UID:10000146-1641929400-1641929400@wbcityut.gov
SUMMARY:Planning Commission Mtg-canceled
DESCRIPTION:
URL:https://wbcityut.gov/event/planning-commission-mtg-18/
CATEGORIES:Meetings
END:VEVENT
BEGIN:VEVENT
DTSTART;TZID=America/Chicago:20220113T170000
DTEND;TZID=America/Chicago:20220113T170000
DTSTAMP:20260423T005031
CREATED:20211210T011629Z
LAST-MODIFIED:20211210T011629Z
UID:10000147-1642093200-1642093200@wbcityut.gov
SUMMARY:Youth Council Mtg
DESCRIPTION:
URL:https://wbcityut.gov/event/youth-council-mtg-5/
LOCATION:City Hall\, 550 North 800 West\, West Bountiful\, UT\, 84087\, United States
CATEGORIES:Meetings
END:VEVENT
BEGIN:VEVENT
DTSTART;TZID=America/Chicago:20220114T190000
DTEND;TZID=America/Chicago:20220114T190000
DTSTAMP:20260423T005031
CREATED:20211210T011657Z
LAST-MODIFIED:20211210T011657Z
UID:10000148-1642186800-1642186800@wbcityut.gov
SUMMARY:Arts Council Concert - Andy Leger
DESCRIPTION:
URL:https://wbcityut.gov/event/arts-council-concert-andy-leger/
CATEGORIES:Events
END:VEVENT
BEGIN:VEVENT
DTSTART;VALUE=DATE:20220117
DTEND;VALUE=DATE:20220118
DTSTAMP:20260423T005031
CREATED:20211210T011728Z
LAST-MODIFIED:20211210T011728Z
UID:10000149-1642377600-1642463999@wbcityut.gov
SUMMARY:Martin Luther King Day - City Offices Closed
DESCRIPTION:
URL:https://wbcityut.gov/event/martin-luther-king-day-city-offices-closed-2/
CATEGORIES:Holiday
END:VEVENT
BEGIN:VEVENT
DTSTART;TZID=America/Chicago:20220118T193000
DTEND;TZID=America/Chicago:20220118T193000
DTSTAMP:20260423T005031
CREATED:20211210T011755Z
LAST-MODIFIED:20220114T051004Z
UID:10000150-1642534200-1642534200@wbcityut.gov
SUMMARY:City Council Mtg
DESCRIPTION:Online Participation Available: https://us02web.zoom.us/j/87971971000 \nAGENDA:  \n  \nInvocation/Thought – By Rod Wood; Pledge of Allegiance – By Mark Preece \n  \n\nApprove Agenda.\nPublic Comment – two minutes per person\, or five minutes if speaking on behalf of a group.\n        Discuss Proposed Budget Amendments for FY 2021-2022.\nMeeting Minutes from January 4\, 2022.\nStaff Reports – Police\, Public Works\, Engineering\, Community Development\, Administration.\nMayor/Council Reports.\nClosed Session for the Purpose of Discussing Items Allowed Pursuant to UCA § 52-4-205.\nAdjourn.
URL:https://wbcityut.gov/event/city-council-mtg-22/
CATEGORIES:City Council
END:VEVENT
BEGIN:VEVENT
DTSTART;TZID=America/Chicago:20220125T193000
DTEND;TZID=America/Chicago:20220125T203000
DTSTAMP:20260423T005031
CREATED:20211210T011822Z
LAST-MODIFIED:20220124T071231Z
UID:10000151-1643139000-1643142600@wbcityut.gov
SUMMARY:Planning Commission Mtg
DESCRIPTION:AGENDA:   \n1.    Prayer/Thought – Commissioner Sweat\, Pledge of Allegiance – Mike Cottle. \n2.      Confirm Agenda. \n3.      Discuss Public Improvement Requirements as a Condition of a Building Permit. \n4.      Discuss Items to be Addressed in 2022. \n         a.       Sidewalks \n         b.      Landscaping \n         c.       Permitted Use Language \n5.      Staff report.  \n6.      Open Meeting Training. \n7.      Consider Meeting Minutes from November 9\, 2021. \n8.      Adjourn. \nMEETING PACKET \n 
URL:https://wbcityut.gov/event/planning-commission-mtg-19/
CATEGORIES:Meetings
END:VEVENT
END:VCALENDAR