BEGIN:VCALENDAR
VERSION:2.0
PRODID:-//West Bountiful City - ECPv6.15.17.1//NONSGML v1.0//EN
CALSCALE:GREGORIAN
METHOD:PUBLISH
X-ORIGINAL-URL:https://wbcityut.gov
X-WR-CALDESC:Events for West Bountiful City
REFRESH-INTERVAL;VALUE=DURATION:PT1H
X-Robots-Tag:noindex
X-PUBLISHED-TTL:PT1H
BEGIN:VTIMEZONE
TZID:America/Chicago
BEGIN:DAYLIGHT
TZOFFSETFROM:-0600
TZOFFSETTO:-0500
TZNAME:CDT
DTSTART:20200308T080000
END:DAYLIGHT
BEGIN:STANDARD
TZOFFSETFROM:-0500
TZOFFSETTO:-0600
TZNAME:CST
DTSTART:20201101T070000
END:STANDARD
BEGIN:DAYLIGHT
TZOFFSETFROM:-0600
TZOFFSETTO:-0500
TZNAME:CDT
DTSTART:20210314T080000
END:DAYLIGHT
BEGIN:STANDARD
TZOFFSETFROM:-0500
TZOFFSETTO:-0600
TZNAME:CST
DTSTART:20211107T070000
END:STANDARD
BEGIN:DAYLIGHT
TZOFFSETFROM:-0600
TZOFFSETTO:-0500
TZNAME:CDT
DTSTART:20220313T080000
END:DAYLIGHT
BEGIN:STANDARD
TZOFFSETFROM:-0500
TZOFFSETTO:-0600
TZNAME:CST
DTSTART:20221106T070000
END:STANDARD
END:VTIMEZONE
BEGIN:VEVENT
DTSTART;TZID=America/Chicago:20211202T170000
DTEND;TZID=America/Chicago:20211202T170000
DTSTAMP:20260423T020854
CREATED:20211210T004359Z
LAST-MODIFIED:20211210T004359Z
UID:10000134-1638464400-1638464400@wbcityut.gov
SUMMARY:Youth Council Mtg
DESCRIPTION:When:\nDec 2\, 2021\n5:00 pm\n\n\nWhere:\nCity Hall\n\n\nDetails:\n\n\nWelcome/Attendance\nWelcome New Member – Ashton Rodabough\nPledge of Allegiance\nYouth Thought\nApprove Minutes from November 11\, 2021\nTreasurer’s Report\nNew Business:  Begin Discussion on Theme Ideas\nChristmas On Onion Street Event Update:\nPending:\nCrafts\, Letters\, etc.\nFood Pantry donations\nCandy Canes\nPics with Santa\nMusic (Parade & Park)\nDecorations\nOther\n\n\nConsider Approval of Expenses for Christmas on Onion Street:\n(Food truck – $350 min\, signs – $250\, craft supplies & costumes – $450)\nOther Business\nNext Meeting – December 9\, if needed\, January 13\nAdjourn to Work on Christmas Crafts for Event
URL:https://wbcityut.gov/event/youth-council-mtg-4/
LOCATION:City Hall\, 550 North 800 West\, West Bountiful\, UT\, 84087\, United States
CATEGORIES:Meetings
END:VEVENT
BEGIN:VEVENT
DTSTART;TZID=America/Chicago:20211202T183000
DTEND;TZID=America/Chicago:20211202T183000
DTSTAMP:20260423T020854
CREATED:20211210T004459Z
LAST-MODIFIED:20211210T004459Z
UID:10000135-1638469800-1638469800@wbcityut.gov
SUMMARY:Arts Council Mtg
DESCRIPTION:When:\nDec 2\, 2021\n6:30 pm\n\n\nWhere:\nVia Zoom (see below)\n\n\nDetails:\nAGENDA:  \n\n   Welcome\n\n\n   Discuss Purchase of Video Cameras\n\n\n   Discuss Possible Advertising in the Davis Journal\n\n\n   Adjourn
URL:https://wbcityut.gov/event/arts-council-mtg-9/
CATEGORIES:Meetings
END:VEVENT
BEGIN:VEVENT
DTSTART;TZID=America/Chicago:20211207T193000
DTEND;TZID=America/Chicago:20211207T193000
DTSTAMP:20260423T020854
CREATED:20211210T004533Z
LAST-MODIFIED:20211210T004533Z
UID:10000136-1638905400-1638905400@wbcityut.gov
SUMMARY:City Council Mtg - Cancelled
DESCRIPTION:
URL:https://wbcityut.gov/event/city-council-mtg-cancelled-4/
CATEGORIES:City Council
END:VEVENT
BEGIN:VEVENT
DTSTART;TZID=America/Chicago:20211209T170000
DTEND;TZID=America/Chicago:20211209T170000
DTSTAMP:20260423T020854
CREATED:20211210T004610Z
LAST-MODIFIED:20211210T004610Z
UID:10000137-1639069200-1639069200@wbcityut.gov
SUMMARY:YCC Work Mtg
DESCRIPTION:The Youth City Council will hold a work meeting to continue preparation for Christmas on Onion Street.
URL:https://wbcityut.gov/event/ycc-work-mtg/
LOCATION:City Hall\, 550 North 800 West\, West Bountiful\, UT\, 84087\, United States
CATEGORIES:Meetings
END:VEVENT
BEGIN:VEVENT
DTSTART;TZID=America/Chicago:20211211T103000
DTEND;TZID=America/Chicago:20211211T103000
DTSTAMP:20260423T020854
CREATED:20211210T004708Z
LAST-MODIFIED:20211210T004810Z
UID:10000138-1639218600-1639218600@wbcityut.gov
SUMMARY:Christmas on Onion St
DESCRIPTION:When:\nDec 11\, 2021\n10:30 am\n\n\nWhere:\nCity Park\n\n\nDetails:\nMERRY CHRISTMAS!! \nThe city’s annual Christmas on Onion Street festivities have changed this year in an attempt to social distance and allow our community to enjoy the holiday celebration in a safe manner. \n10:30am-1:30pm – Santa (on a fire truck) & Friends will ride through the city beginning at city hall and ending at city park. See route map here to estimate when they will be in your area. \n1:00p-3:00p – City Park – Photo opportunity with Santa\, enjoy activities for kids including the opportunity to write letters to Santa and make Christmas ornaments\, hot chocolate and cookies\, and contribute to the donation box for Bountiful Food Pantry. Santa will be accepting letters but will not be available for lap conversations with children. \n1:30p – West Bountiful Elementary School choir will sing from 1:30 pm to 2:00 pm.\n2:15p – Viewmont Jazz band will perform
URL:https://wbcityut.gov/event/christmas-on-onion-st/
LOCATION:City Park
CATEGORIES:Events
END:VEVENT
BEGIN:VEVENT
DTSTART;TZID=America/Chicago:20211214T193000
DTEND;TZID=America/Chicago:20211214T193000
DTSTAMP:20260423T020854
CREATED:20211210T004846Z
LAST-MODIFIED:20211210T004846Z
UID:10000139-1639510200-1639510200@wbcityut.gov
SUMMARY:Planning Commission Mtg
DESCRIPTION:
URL:https://wbcityut.gov/event/planning-commission-mtg-17/
LOCATION:City Hall\, 550 North 800 West\, West Bountiful\, UT\, 84087\, United States
CATEGORIES:Meetings
END:VEVENT
BEGIN:VEVENT
DTSTART;TZID=America/Chicago:20211221T193000
DTEND;TZID=America/Chicago:20211221T193000
DTSTAMP:20260423T020854
CREATED:20211210T004915Z
LAST-MODIFIED:20211220T223733Z
UID:10000140-1640115000-1640115000@wbcityut.gov
SUMMARY:City Council Mtg
DESCRIPTION:When:\nDec 21\, 2021\n7:30 pm\n\n\nWhere:\nCity Hall\n\n\nDetails:\n\n\nApprove Agenda.\nOath of Office – Police Sergeant Tom Smith.\nPublic Comment – two minutes per person\, or five minutes if speaking on behalf of a group.\nImprovements Required for Building Permit\, Kyle & Amy Paget\, 600 W 1000 N.\nImpact Fee Deferral Request\, Richard & Tonya Eggett\, 210 Fairwind Cir.\nPresentation of Financial Statements and Independent Audit for the Fiscal Year Ending June 30\, 2021.\nFinal Plat Approval for Highgate Phase 2 Subdivision.\nStorm Water Coalition Agreement.\nDiscussion of Police Wages.\nMeeting Minutes from November 16\, 2021.\nStaff Reports – Police\, Public Works\, Engineering\, Community Development\, Administration.\nMayor/Council Reports.\nClosed Session for the Purpose of Discussing Items Allowed Pursuant to UCA § 52-4-205.\nAdjourn.\n\nCity Council Meeting Packet
URL:https://wbcityut.gov/event/city-council-mtg-20/
LOCATION:City Hall\, 550 North 800 West\, West Bountiful\, UT\, 84087\, United States
CATEGORIES:City Council
END:VEVENT
BEGIN:VEVENT
DTSTART;VALUE=DATE:20211224
DTEND;VALUE=DATE:20211225
DTSTAMP:20260423T020854
CREATED:20211210T004949Z
LAST-MODIFIED:20211210T004949Z
UID:10000141-1640304000-1640390399@wbcityut.gov
SUMMARY:Christmas Holiday - City Offices Closed
DESCRIPTION:
URL:https://wbcityut.gov/event/christmas-holiday-city-offices-closed/
CATEGORIES:Holiday
END:VEVENT
BEGIN:VEVENT
DTSTART;TZID=America/Chicago:20211228T193000
DTEND;TZID=America/Chicago:20211228T193000
DTSTAMP:20260423T020854
CREATED:20211210T005030Z
LAST-MODIFIED:20211210T005030Z
UID:10000142-1640719800-1640719800@wbcityut.gov
SUMMARY:Planning Commission Mtg - Cancelled
DESCRIPTION:
URL:https://wbcityut.gov/event/planning-commission-mtg-cancelled-6/
CATEGORIES:Meetings
END:VEVENT
BEGIN:VEVENT
DTSTART;VALUE=DATE:20211231
DTEND;VALUE=DATE:20220101
DTSTAMP:20260423T020854
CREATED:20211210T005103Z
LAST-MODIFIED:20211210T005103Z
UID:10000143-1640908800-1640995199@wbcityut.gov
SUMMARY:New Year's Holiday - City Offices Closed
DESCRIPTION:
URL:https://wbcityut.gov/event/new-years-holiday-city-offices-closed/
CATEGORIES:Holiday
END:VEVENT
END:VCALENDAR