BEGIN:VCALENDAR
VERSION:2.0
PRODID:-//West Bountiful City - ECPv6.15.17.1//NONSGML v1.0//EN
CALSCALE:GREGORIAN
METHOD:PUBLISH
X-WR-CALNAME:West Bountiful City
X-ORIGINAL-URL:https://wbcityut.gov
X-WR-CALDESC:Events for West Bountiful City
REFRESH-INTERVAL;VALUE=DURATION:PT1H
X-Robots-Tag:noindex
X-PUBLISHED-TTL:PT1H
BEGIN:VTIMEZONE
TZID:America/Chicago
BEGIN:DAYLIGHT
TZOFFSETFROM:-0600
TZOFFSETTO:-0500
TZNAME:CDT
DTSTART:20200308T080000
END:DAYLIGHT
BEGIN:STANDARD
TZOFFSETFROM:-0500
TZOFFSETTO:-0600
TZNAME:CST
DTSTART:20201101T070000
END:STANDARD
BEGIN:DAYLIGHT
TZOFFSETFROM:-0600
TZOFFSETTO:-0500
TZNAME:CDT
DTSTART:20210314T080000
END:DAYLIGHT
BEGIN:STANDARD
TZOFFSETFROM:-0500
TZOFFSETTO:-0600
TZNAME:CST
DTSTART:20211107T070000
END:STANDARD
BEGIN:DAYLIGHT
TZOFFSETFROM:-0600
TZOFFSETTO:-0500
TZNAME:CDT
DTSTART:20220313T080000
END:DAYLIGHT
BEGIN:STANDARD
TZOFFSETFROM:-0500
TZOFFSETTO:-0600
TZNAME:CST
DTSTART:20221106T070000
END:STANDARD
END:VTIMEZONE
BEGIN:VEVENT
DTSTART;TZID=America/Chicago:20210504T193000
DTEND;TZID=America/Chicago:20210504T193000
DTSTAMP:20260425T064625
CREATED:20211209T230834Z
LAST-MODIFIED:20211209T230834Z
UID:10000072-1620156600-1620156600@wbcityut.gov
SUMMARY:City Council Mtg
DESCRIPTION:When:\nMay 4\, 2021\n7:30 pm\n\n\nWhere:\nCity Hall\n550 N 800 West\n\n\nContact:\n(801) 292-4486\n\n\nDetails:\n AGENDA:  THIS MEETING WILL BE HELD IN-PERSON \n Invocation/Thought – Mark Preece; Pledge of Allegiance – James Ahlstrom  \n\n  Approve Agenda.\n  Public Comment – two minutes per person\, or five minutes if speaking on behalf of a group.\n  Ordinance 441-21\, An Ordinance Modifying Height and Setback Regulations in Residential Zones.\n  Expenditure Approval for a Turf Sweeper ($10\,000) and Street Striping ($24\,000).\n  Approve West Bountiful City Polling Location and Vote Centers for the 2021 Municipal Election.\n  Presentation and Consideration of FY-2022 Tentative Budget For All City Funds.\n  Minutes from April 6\, 2021.\n  Staff Reports – Police\, Public Works\, Engineering\, Community Development\, Administration.\n  Mayor/Council Reports.\n  Closed Session for the Purpose of Discussing Items Allowed Pursuant to UCA § 52-4-205.\n  Adjourn.
URL:https://wbcityut.gov/event/city-council-mtg-8/
CATEGORIES:City Council
END:VEVENT
BEGIN:VEVENT
DTSTART;TZID=America/Chicago:20210506T183000
DTEND;TZID=America/Chicago:20210506T183000
DTSTAMP:20260425T064625
CREATED:20211209T230930Z
LAST-MODIFIED:20211209T230930Z
UID:10000073-1620325800-1620325800@wbcityut.gov
SUMMARY:Arts Council Mtg
DESCRIPTION:When:\nMay 6\, 2021\n6:30 pm\n\n\nWhere:\nVia Zoom (see below)\n\n\nDetails:\n Join Zoom Meeting \nhttps://us02web.zoom.us/j/83863871243?pwd=eTlMWU9OeFlHdWFSdWlGZHMrN3RwZz09 \nMeeting ID: 838 6387 1243\nPasscode: 924226 \nAGENDA:  \n\n     Welcome – Excuse Emily\n     Minutes\n     May Concert\, Sherry Meidell\n     Independence Day\n     Future Concerts\, Mike Murphy?\n     Newsletter\n     Once Around\n     Adjourn
URL:https://wbcityut.gov/event/arts-council-mtg-5/
CATEGORIES:Meetings
END:VEVENT
BEGIN:VEVENT
DTSTART;TZID=America/Chicago:20210511T193000
DTEND;TZID=America/Chicago:20210511T193000
DTSTAMP:20260425T064625
CREATED:20211209T231051Z
LAST-MODIFIED:20211209T231051Z
UID:10000074-1620761400-1620761400@wbcityut.gov
SUMMARY:Planning Commission Mtg
DESCRIPTION:When:\nMay 11\, 2021\n7:30 pm\n\n\nWhere:\nCity Hall\n550 North 800 West\n\n\nDetails:\nTHE PLANNING COMMISSION WILL HOLD A REGULAR MEETING \nAT 7:30 PM ON TUESDAY\, MAY 11\, 2021 AT THE CITY OFFICES \n This meeting will be held in-person  \n\n  Prayer/Thought by Commissioner Charchenko.\n  Accept Agenda.\n  Updated Concept Plan for Brookside Ranch PUD.\n  Discuss Modifications to WBMC 17.82\, Accessory Dwelling Units and Set Public Hearing.\n  Staff report.\n  Consider Meeting Minutes from April 13\, 2021.\n  Adjourn.\n\nDOCUMENT PACKET
URL:https://wbcityut.gov/event/planning-commission-mtg-7/
CATEGORIES:Meetings
END:VEVENT
BEGIN:VEVENT
DTSTART;TZID=America/Chicago:20210513T170000
DTEND;TZID=America/Chicago:20210513T170000
DTSTAMP:20260425T064625
CREATED:20211209T231310Z
LAST-MODIFIED:20211209T231342Z
UID:10000075-1620925200-1620925200@wbcityut.gov
SUMMARY:YCC Meeting
DESCRIPTION:
URL:https://wbcityut.gov/event/ycc-meeting-3/
LOCATION:City Hall\, 550 North 800 West\, West Bountiful\, UT\, 84087\, United States
CATEGORIES:Meetings
END:VEVENT
BEGIN:VEVENT
DTSTART;TZID=America/Chicago:20210518T173000
DTEND;TZID=America/Chicago:20210518T173000
DTSTAMP:20260425T064625
CREATED:20211209T231442Z
LAST-MODIFIED:20211209T231442Z
UID:10000001-1621359000-1621359000@wbcityut.gov
SUMMARY:EmPAC Mtg
DESCRIPTION:When:\nMay 18\, 2021\n5:30 pm\n\n\nWhere:\nCity Hall\n550 North 800 West\n\n\nDetails:\nAGENDA \n\n Approval of Minutes from the February 2020 meeting\n Budget review\n Update on WB CERT\n Update on West Bountiful Emergency Operations Plan\n Report on Trailers / New location for storage / Replace solar panels\n Parade/Safety Fair discussion\n Roundtable discussion\n Adjourn
URL:https://wbcityut.gov/event/empac-mtg/
LOCATION:City Hall\, 550 North 800 West\, West Bountiful\, UT\, 84087\, United States
CATEGORIES:Meetings
END:VEVENT
BEGIN:VEVENT
DTSTART;TZID=America/Chicago:20210518T183000
DTEND;TZID=America/Chicago:20210518T183000
DTSTAMP:20260425T064625
CREATED:20211209T231625Z
LAST-MODIFIED:20211209T231625Z
UID:10000002-1621362600-1621362600@wbcityut.gov
SUMMARY:City Council Mtg
DESCRIPTION:When:\nMay 18\, 2021\n6:30 pm\n\n\nWhere:\nCity Hall\n550 North 800 West\n\n\nDetails:\n WORK SESSION (beginning at 6:30 pm): \n6:30 pm – Presentation on UTOPIA Internet Services – Kim McKinley & Laurie Harvey \nREGULAR AGENDA (beginning at 7:30 pm): \n Invocation/Thought – James Ahlstrom; Pledge of Allegiance – James Bruhn  \n\n  Recognize Denis Hopkinson for his Service to the City.\n  Approve Agenda.\n  Public Comment – two minutes per person\, or five minutes if speaking on behalf of a group.\n  Public Hearing to Release the East Side Easement at 842 N 2400 W (Roberts).\n  Ordinance 442-21 Approving the Requested Release of Easement at 842 N 2400 West.\n  Public Hearing to Release South Side Easement & Reduce West Rear Easement at 2347 S 830 W (Gotschall).\n  Ordinance 443-21 Approving the Requested Release and Reduction of Easements at 2347 W 830 West.\n  Ordinance 444-21 Approving a New Beer Ordinance for West Bountiful City.\n  Motorola/Spillman Records Management System for Police Department.\n  Notice of Award to Holbrook Asphalt for 2021 Seal Coat Project.\n  Discussion on Water Rates\n  Discussion on Fiscal Year 2020/2021 and Fiscal Year 2021/2022 Budgets\n  Minutes from April 27 and May 4\, 2021.\n  Staff Reports – Police\, Public Works\, Engineering\, Community Development\, Administration.\n  Mayor/Council Reports.\n  Closed Session for the Purpose of Discussing Items Allowed Pursuant to UCA § 52-4-205.\n  Adjourn.\n\nELECTRONIC MEETING PACKET
URL:https://wbcityut.gov/event/city-council-mtg-9/
LOCATION:City Hall\, 550 North 800 West\, West Bountiful\, UT\, 84087\, United States
CATEGORIES:City Council
END:VEVENT
BEGIN:VEVENT
DTSTART;TZID=America/Chicago:20210518T193000
DTEND;TZID=America/Chicago:20210518T193000
DTSTAMP:20260425T064625
CREATED:20211209T231726Z
LAST-MODIFIED:20211209T231726Z
UID:10000003-1621366200-1621366200@wbcityut.gov
SUMMARY:Public Hearings - Vacate Easement
DESCRIPTION:When:\nMay 18\, 2021\n7:30 pm\n\n\nWhere:\nCity Hall\n\n\nDetails:\nThere are two requests to modify existing public utility easements\n1. Roberts – 842 W 2400 N – vacate east (side) easement\n2. Gotschall – 2347 N 830 W – vacate south (side easement; reduce from 10 ft to 3 ft the west (rear) easement. \nAll interested parties are invited to participate in the hearing. Written comments or questions may be submitted to Recorder@wbcityut.gov
URL:https://wbcityut.gov/event/public-hearings-vacate-easement/
LOCATION:City Hall\, 550 North 800 West\, West Bountiful\, UT\, 84087\, United States
CATEGORIES:City Council
END:VEVENT
BEGIN:VEVENT
DTSTART;TZID=America/Chicago:20210525T193000
DTEND;TZID=America/Chicago:20210525T193000
DTSTAMP:20260425T064625
CREATED:20211209T231852Z
LAST-MODIFIED:20211209T231852Z
UID:10000004-1621971000-1621971000@wbcityut.gov
SUMMARY:Planning Commission Mtg
DESCRIPTION:When:\nMay 25\, 2021\n7:30 pm\n\n\nDetails:\n AGENDA \n\n  Prayer/Thought by Commissioner Sweat.\n  Accept Agenda.\n  Consider Highgate 2 Subdivision Plat\n  Consider Doug’s Corner Subdivision Plat\n  Consider Ferlin Subdivision\n  Discuss Housing in Certain Commercial Areas Overlay (HCCO)\n  Discuss Fencing Regulations\n  Staff report.\n  Consider Meeting Minutes from May 11\, 2021.\n  Adjourn.\n\n5/25/2021 Meeting Packet
URL:https://wbcityut.gov/event/planning-commission-mtg-8/
CATEGORIES:Meetings
END:VEVENT
BEGIN:VEVENT
DTSTART;VALUE=DATE:20210531
DTEND;VALUE=DATE:20210601
DTSTAMP:20260425T064625
CREATED:20211209T231931Z
LAST-MODIFIED:20211209T231931Z
UID:10000005-1622419200-1622505599@wbcityut.gov
SUMMARY:Memorial Day - City Offices Closed
DESCRIPTION:
URL:https://wbcityut.gov/event/memorial-day-city-offices-closed/
CATEGORIES:Holiday
END:VEVENT
END:VCALENDAR