BEGIN:VCALENDAR
VERSION:2.0
PRODID:-//West Bountiful City - ECPv6.15.17.1//NONSGML v1.0//EN
CALSCALE:GREGORIAN
METHOD:PUBLISH
X-WR-CALNAME:West Bountiful City
X-ORIGINAL-URL:https://wbcityut.gov
X-WR-CALDESC:Events for West Bountiful City
REFRESH-INTERVAL;VALUE=DURATION:PT1H
X-Robots-Tag:noindex
X-PUBLISHED-TTL:PT1H
BEGIN:VTIMEZONE
TZID:America/Chicago
BEGIN:DAYLIGHT
TZOFFSETFROM:-0600
TZOFFSETTO:-0500
TZNAME:CDT
DTSTART:20200308T080000
END:DAYLIGHT
BEGIN:STANDARD
TZOFFSETFROM:-0500
TZOFFSETTO:-0600
TZNAME:CST
DTSTART:20201101T070000
END:STANDARD
BEGIN:DAYLIGHT
TZOFFSETFROM:-0600
TZOFFSETTO:-0500
TZNAME:CDT
DTSTART:20210314T080000
END:DAYLIGHT
BEGIN:STANDARD
TZOFFSETFROM:-0500
TZOFFSETTO:-0600
TZNAME:CST
DTSTART:20211107T070000
END:STANDARD
BEGIN:DAYLIGHT
TZOFFSETFROM:-0600
TZOFFSETTO:-0500
TZNAME:CDT
DTSTART:20220313T080000
END:DAYLIGHT
BEGIN:STANDARD
TZOFFSETFROM:-0500
TZOFFSETTO:-0600
TZNAME:CST
DTSTART:20221106T070000
END:STANDARD
END:VTIMEZONE
BEGIN:VEVENT
DTSTART;TZID=America/Chicago:20210401T183000
DTEND;TZID=America/Chicago:20210401T183000
DTSTAMP:20260425T080657
CREATED:20211209T220021Z
LAST-MODIFIED:20211209T220021Z
UID:10000055-1617301800-1617301800@wbcityut.gov
SUMMARY:Arts Council Mtg
DESCRIPTION:When:\nApr 1\, 2021\n6:30 pm\n\n\nWhere:\nVia Zoom (see below)\n\n\nDetails:\nJoin Zoom Meeting \nParticipants may access the meeting at: https://us02web.zoom.us/j/81958787940?pwd=aUlDcnU1d1c1MW0xTmRpOHl1RUM2UT09 \nMeeting ID: 819 5878 7940\nPasscode: 001144\n \n      AGENDA \n\n Excuse Dianne\, Emily\n Minutes\n Young Artists Concert\n May Concert\, Sherry Meidell\n Independence Day\n September Concert\n Once Around\n Adjourn
URL:https://wbcityut.gov/event/arts-council-mtg-4/
CATEGORIES:Meetings
END:VEVENT
BEGIN:VEVENT
DTSTART;VALUE=DATE:20210404
DTEND;VALUE=DATE:20210405
DTSTAMP:20260425T080657
CREATED:20211209T220046Z
LAST-MODIFIED:20211209T220046Z
UID:10000056-1617494400-1617580799@wbcityut.gov
SUMMARY:Easter
DESCRIPTION:
URL:https://wbcityut.gov/event/easter/
CATEGORIES:Holiday
END:VEVENT
BEGIN:VEVENT
DTSTART;TZID=America/Chicago:20210406T193000
DTEND;TZID=America/Chicago:20210406T193000
DTSTAMP:20260425T080657
CREATED:20211209T220128Z
LAST-MODIFIED:20211209T220227Z
UID:10000057-1617737400-1617737400@wbcityut.gov
SUMMARY:City Council Mtg
DESCRIPTION:When:\nApr 6\, 2021\n7:30 pm\n\n\nWhere:\nVia Zoom (see below)\n\n\nDetails:\nJoin Zoom Meeting\nhttps://us02web.zoom.us/j/86878603495\nMeeting ID: 868 7860 3495\nOr\, dial 1 346 248 7799 or 408 638 0968 \nAGENDA:  (Electronic Mtg Packet) \nInvocation/Thought – Rod Wood; Pledge of Allegiance – Mark Preece  \n\n  Approve Agenda.\n  Public Hearing to Receive Input with Respect to the Issuance of Sales Tax Revenue Bonds to Finance All or a Portion of the Cost of Acquiring\, Constructing and Improving a New Public Works Facility and the Potential Economic Impact that the Project will have on the Private Sector\, Pursuant to the Local Government Bonding Act\, Title 11\, Chapter 14\, Utah Code Annotated 1953 as Amended.\n  Public Comment – two minutes per person\, or five minutes if speaking on behalf of a group.\n  Presentation on Water Rate Analysis.\n  Award Public Defender Services Contract to Matthew Brass.\n  Award Financial Audit Services Contract to Ulrich and Associates.\n  Fiscal Year 2022 Draft Budget Development Discussion.\n  Staff Reports – Police\, Public Works\, Engineering\, Community Development\, Administration.\n  Mayor/Council Reports.\n  Minutes from March 16\, 2021 Meeting and Site Visit.\n  Closed Session for the Purpose of Discussing Items Allowed Pursuant to UCA § 52-4-205.\n  Adjourn.
URL:https://wbcityut.gov/event/city-council-mtg-7/
CATEGORIES:City Council
END:VEVENT
BEGIN:VEVENT
DTSTART;TZID=America/Chicago:20210406T193000
DTEND;TZID=America/Chicago:20210406T193000
DTSTAMP:20260425T080657
CREATED:20211209T220340Z
LAST-MODIFIED:20211209T220356Z
UID:10000058-1617737400-1617737400@wbcityut.gov
SUMMARY:Public Hearing - Sales Tax Rev Bonds
DESCRIPTION:When:\nApr 6\, 2021\n7:30 pm\n\n\nWhere:\nVia Zoom (see below)\n\n\nDetails:\nThe City Council will hold a public hearing during its regular meeting at 7:30 p.m. on April 6\, 2021. The public hearing will be held via Zoom (see info below) \nThe purpose of the hearing is to receive input from the public with respect to the issuance of Sales Tax Revenue Bonds and the potential economic impact that the Project will have on the private sector. \nAll members of the public are invited to attend and participate in the public hearing. Written comments may be submitted to the City\, to the attention of the City Recorder (Recorder@wbcityut.gov)\, prior to the public hearing. \nSee Public Hearing Tab on the website home page for more information. \nJoin Zoom Meeting\nhttps://us02web.zoom.us/j/86878603495\nMeeting ID: 868 7860 3495\nOr\, dial 1 346 248 7799 or 408 638 0968
URL:https://wbcityut.gov/event/public-hearing-sales-tax-rev-bonds/
CATEGORIES:City Council
END:VEVENT
BEGIN:VEVENT
DTSTART;TZID=America/Chicago:20210408T170000
DTEND;TZID=America/Chicago:20210408T170000
DTSTAMP:20260425T080657
CREATED:20211209T220443Z
LAST-MODIFIED:20211209T220443Z
UID:10000059-1617901200-1617901200@wbcityut.gov
SUMMARY:Youth Council Mtg
DESCRIPTION:When:\nApr 8\, 2021\n5:00 pm\n\n\nWhere:\nVia Zoom (see below)\n\n\nDetails:\nJoin Zoom Meeting\nhttps://us02web.zoom.us/j/87020992540 \nMeeting ID: 870 2099 2540\nor\, dial:\n+1 253 215 8782\n+1 346 248 7799 \n AGENDA \n\nWelcome/Attendance\nMayor Morrill’s Statement for Non-Anchor Meetings: Mayor Romney and I\, as Youth Mayor\, have determined that due to the current COVID-19 pandemic and the physical distancing required to prevent the spread of infection\, public meetings present a substantial risk to the health and safety of those who may be present at the meetings. That risk can be substantially mitigated by holding Youth Council meetings through electronic means that allow for public participation without an anchor location.\nYouth Thought – Elsie Buck\nApprove Minutes from March 11\, 2021\nTreasurer’s Report\nDiscuss Easter Egg drive-through.\nOther Business\nAdjourn
URL:https://wbcityut.gov/event/youth-council-mtg/
CATEGORIES:Meetings
END:VEVENT
BEGIN:VEVENT
DTSTART;TZID=America/Chicago:20210410T110000
DTEND;TZID=America/Chicago:20210410T110000
DTSTAMP:20260425T080657
CREATED:20211209T220602Z
LAST-MODIFIED:20211209T220602Z
UID:10000060-1618052400-1618052400@wbcityut.gov
SUMMARY:EASTER DRIVE-BY
DESCRIPTION:The West Bountiful Youth Council will host a drive-through after-Easter event for kids on Saturday\, April 10 from 11am-1pm at the north end of City Park. Easter bunnies will pass out bags of candy to all the kids. \nEnter from 600 West on 1810 North and Easter Bunnies will pass out candy bags to kids as you drive by.
URL:https://wbcityut.gov/event/easter-drive-by/
LOCATION:City Park – north end
CATEGORIES:Events
END:VEVENT
BEGIN:VEVENT
DTSTART;TZID=America/Chicago:20210413T193000
DTEND;TZID=America/Chicago:20210413T193000
DTSTAMP:20260425T080657
CREATED:20211209T220730Z
LAST-MODIFIED:20211209T220730Z
UID:10000061-1618342200-1618342200@wbcityut.gov
SUMMARY:Planning Commission Mtg & Public Hearings
DESCRIPTION:When:\nApr 13\, 2021\n7:30 pm\n\n\nWhere:\nVia Zoom (see below)\n\n\nDetails:\nJoin Zoom Meeting \nhttps://us02web.zoom.us/j/86542058448 \nMeeting ID: 865 4205 8448 \nOr\, dial\n+1 253 215 8782\n+1 346 248 7799\n—————————-\nAGENDA: Click here for Electronic Meeting Packet \n   1.       The Mayor and the Planning Commission Chair have determined that due to the current COVID-19 pandemic and the physical distancing required to prevent the spread of infection\, public meetings present a substantial risk to the health and safety of those who may be present at the meetings. That risk can be substantially mitigated by holding this meeting through electronic means that allow for public participation without an anchor location. \n\nPrayer/Thought by Commissioner Vest.\nAccept Agenda.\nConsider Chairman Malan’s Recommendation of Corey Sweat for Vice Chairman of the Planning Commission.\nPublic Hearing – Proposed Updates to Height Regulations in the City’s Residential Districts.\nPublic Hearing – Proposed Updates to Permitted\, Conditional\, and Prohibited Uses in the City’s Residential\, Commercial\, and Industrial Zones.\nConditional Use Application – ADU – Drown\nConsider Proposed Changes to Height Regulations.\nConsider Proposed Changes to Uses in Residential\, Commercial\, and Industrial Zones.\nConsider Final Plat for Doug’s Corner/Deppe Farms Subdivision.\nStaff report.\nConsider Meeting Minutes from March 23\, 2021.\nAdjourn.
URL:https://wbcityut.gov/event/planning-commission-mtg-public-hearings/
CATEGORIES:Meetings
END:VEVENT
BEGIN:VEVENT
DTSTART;TZID=America/Chicago:20210417T080000
DTEND;TZID=America/Chicago:20210417T080000
DTSTAMP:20260425T080657
CREATED:20211209T220832Z
LAST-MODIFIED:20211209T225018Z
UID:10000062-1618646400-1618646400@wbcityut.gov
SUMMARY:Spring Clean-up
DESCRIPTION:When:\nApr 17\, 2021\n8:00 am\n\n\nWhere:\nCity Park – north end\n\n\nDetails:\nHours:  Saturday  8am – 5pm (or when bins are full)\nMonday – Friday 11:00 am – 7 pm\nSunday – NO dumpingSunday: No dumping will be allowed(Bins will be barricaded after hours – PLEASE do not leave trash at barricades) \nWE WILL NOT ACCEPT: \nLead Products \nWood larger than 2x2x6’ \nPaint \nCommercial Waste \nAnimal Remains \nTires \nAppliances with Freon\, (e.g.\, refrigerators\, freezers\, air conditioners) \nTVs \nComputers \nGlass \nBarbed Wire \nHazardous Waste of any kind* (e.g.\, batteries\, chemical material/explosives \n    fluorescent lights\, etc.) \nGreen Waste\, including dirt\, fertilizers** \n  \nPROOF OF WEST BOUNTIFUL RESIDENCY WILL BE REQUIRED \n*   Please take Hazardous Waste to Wasatch Energy Recovery Facility in Layton. \n** Please take Green Waste to Bountiful Landfill. It is accepted there year round–but the city will cover the cost during our clean-up period.
URL:https://wbcityut.gov/event/spring-clean-up/
LOCATION:City Park – north end
CATEGORIES:Garbage & Recycling
END:VEVENT
BEGIN:VEVENT
DTSTART;TZID=America/Chicago:20210419T110000
DTEND;TZID=America/Chicago:20210419T110000
DTSTAMP:20260425T080657
CREATED:20211209T224600Z
LAST-MODIFIED:20211209T225010Z
UID:10000063-1618830000-1618830000@wbcityut.gov
SUMMARY:Spring Clean-up
DESCRIPTION:When:\nApr 19\, 2021\n11:00 am\n\n\nWhere:\nCity Park – north end\n\n\nDetails:\nHours:  Saturday  8am – 5pm (or when bins are full)\nMonday – Friday 11:00 am – 7 pm\nSunday – NO dumpingSunday: No dumping will be allowed(Bins will be barricaded after hours – PLEASE do not leave trash at barricades) \nWE WILL NOT ACCEPT: \nLead Products \nWood larger than 2x2x6’ \nPaint \nCommercial Waste \nAnimal Remains \nTires \nAppliances with Freon\, (e.g.\, refrigerators\, freezers\, air conditioners) \nTVs \nComputers \nGlass \nBarbed Wire \nHazardous Waste of any kind* (e.g.\, batteries\, chemical material/explosives \n    fluorescent lights\, etc.) \nGreen Waste\, including dirt\, fertilizers** \n  \nPROOF OF WEST BOUNTIFUL RESIDENCY WILL BE REQUIRED \n*   Please take Hazardous Waste to Wasatch Energy Recovery Facility in Layton. \n** Please take Green Waste to Bountiful Landfill. It is accepted there year round–but the city will cover the cost during our clean-up period.
URL:https://wbcityut.gov/event/spring-clean-up-2/
LOCATION:City Park – north end
CATEGORIES:Garbage & Recycling
END:VEVENT
BEGIN:VEVENT
DTSTART;TZID=America/Chicago:20210420T110000
DTEND;TZID=America/Chicago:20210420T110000
DTSTAMP:20260425T080657
CREATED:20211209T224736Z
LAST-MODIFIED:20211209T225003Z
UID:10000064-1618916400-1618916400@wbcityut.gov
SUMMARY:Spring Clean-up
DESCRIPTION:When:\nApr 20\, 2021\n11:00 am\n\n\nWhere:\nCity Park – north end\n\n\nDetails:\nHours:  Saturday  8am – 5pm (or when bins are full)\nMonday – Friday 11:00 am – 7 pm\nSunday – NO dumpingSunday: No dumping will be allowed(Bins will be barricaded after hours – PLEASE do not leave trash at barricades) \nWE WILL NOT ACCEPT: \nLead Products \nWood larger than 2x2x6’ \nPaint \nCommercial Waste \nAnimal Remains \nTires \nAppliances with Freon\, (e.g.\, refrigerators\, freezers\, air conditioners) \nTVs \nComputers \nGlass \nBarbed Wire \nHazardous Waste of any kind* (e.g.\, batteries\, chemical material/explosives \n    fluorescent lights\, etc.) \nGreen Waste\, including dirt\, fertilizers** \n  \nPROOF OF WEST BOUNTIFUL RESIDENCY WILL BE REQUIRED \n*   Please take Hazardous Waste to Wasatch Energy Recovery Facility in Layton. \n** Please take Green Waste to Bountiful Landfill. It is accepted there year round–but the city will cover the cost during our clean-up period.
URL:https://wbcityut.gov/event/spring-clean-up-3/
LOCATION:City Park – north end
CATEGORIES:Garbage & Recycling
END:VEVENT
BEGIN:VEVENT
DTSTART;TZID=America/Chicago:20210420T193000
DTEND;TZID=America/Chicago:20210420T193000
DTSTAMP:20260425T080657
CREATED:20211209T224921Z
LAST-MODIFIED:20211209T224921Z
UID:10000065-1618947000-1618947000@wbcityut.gov
SUMMARY:City Council Mtg - Cancelled
DESCRIPTION:This meeting has been canceled. The next meeting will be held on May 4\, 2021.
URL:https://wbcityut.gov/event/city-council-mtg-cancelled/
CATEGORIES:City Council
END:VEVENT
BEGIN:VEVENT
DTSTART;TZID=America/Chicago:20210421T110000
DTEND;TZID=America/Chicago:20210421T110000
DTSTAMP:20260425T080657
CREATED:20211209T230204Z
LAST-MODIFIED:20211209T230204Z
UID:10000066-1619002800-1619002800@wbcityut.gov
SUMMARY:Spring Clean-up
DESCRIPTION:When:\nApr 21\, 2021\n11:00 am\n\n\nWhere:\nCity Park – north end\n\n\nDetails:\nHours:  Saturday  8am – 5pm (or when bins are full)\nMonday – Friday 11:00 am – 7 pm\nSunday – NO dumping \nSunday: No dumping will be allowed \n(Bins will be barricaded after hours – PLEASE do not leave trash at barricades) \nWE WILL NOT ACCEPT: \nLead Products \nWood larger than 2x2x6’ \nPaint \nCommercial Waste \nAnimal Remains \nTires \nAppliances with Freon\, (e.g.\, refrigerators\, freezers\, air conditioners) \nTVs \nComputers \nGlass \nBarbed Wire \nHazardous Waste of any kind* (e.g.\, batteries\, chemical material/explosives \n    fluorescent lights\, etc.) \nGreen Waste\, including dirt\, fertilizers** \n  \nPROOF OF WEST BOUNTIFUL RESIDENCY WILL BE REQUIRED \n*   Please take Hazardous Waste to Wasatch Energy Recovery Facility in Layton. \n** Please take Green Waste to Bountiful Landfill. It is accepted there year round–but the city will cover the cost during our clean-up period.
URL:https://wbcityut.gov/event/spring-clean-up-4/
LOCATION:City Park – north end
CATEGORIES:Garbage & Recycling
END:VEVENT
BEGIN:VEVENT
DTSTART;TZID=America/Chicago:20210422T110000
DTEND;TZID=America/Chicago:20210422T110000
DTSTAMP:20260425T080657
CREATED:20211209T230255Z
LAST-MODIFIED:20211209T230255Z
UID:10000067-1619089200-1619089200@wbcityut.gov
SUMMARY:Spring Clean-up
DESCRIPTION:When:\nApr 22\, 2021\n11:00 am\n\n\nWhere:\nCity Park – north end\n\n\nDetails:\nHours:  Saturday  8am – 5pm (or when bins are full)\nMonday – Friday 11:00 am – 7 pm\nSunday – NO dumping \nSunday: No dumping will be allowed \n(Bins will be barricaded after hours – PLEASE do not leave trash at barricades) \nWE WILL NOT ACCEPT: \nLead Products \nWood larger than 2x2x6’ \nPaint \nCommercial Waste \nAnimal Remains \nTires \nAppliances with Freon\, (e.g.\, refrigerators\, freezers\, air conditioners) \nTVs \nComputers \nGlass \nBarbed Wire \nHazardous Waste of any kind* (e.g.\, batteries\, chemical material/explosives \n    fluorescent lights\, etc.) \nGreen Waste\, including dirt\, fertilizers** \n  \nPROOF OF WEST BOUNTIFUL RESIDENCY WILL BE REQUIRED \n*   Please take Hazardous Waste to Wasatch Energy Recovery Facility in Layton. \n** Please take Green Waste to Bountiful Landfill. It is accepted there year round–but the city will cover the cost during our clean-up period.
URL:https://wbcityut.gov/event/spring-clean-up-5/
LOCATION:City Park – north end
CATEGORIES:Garbage & Recycling
END:VEVENT
BEGIN:VEVENT
DTSTART;TZID=America/Chicago:20210423T110000
DTEND;TZID=America/Chicago:20210423T110000
DTSTAMP:20260425T080657
CREATED:20211209T230400Z
LAST-MODIFIED:20211209T230400Z
UID:10000068-1619175600-1619175600@wbcityut.gov
SUMMARY:Spring Clean-up
DESCRIPTION:When:\nApr 23\, 2021\n11:00 am\n\n\nWhere:\nCity Park – north end\n\n\nDetails:\nHours:  Saturday  8am – 5pm (or when bins are full)\nMonday – Friday 11:00 am – 7 pm\nSunday – NO dumpingSunday: No dumping will be allowed \n(Bins will be barricaded after hours – PLEASE do not leave trash at barricades) \nWE WILL NOT ACCEPT: \nLead Products \nWood larger than 2x2x6’ \nPaint \nCommercial Waste \nAnimal Remains \nTires \nAppliances with Freon\, (e.g.\, refrigerators\, freezers\, air conditioners) \nTVs \nComputers \nGlass \nBarbed Wire \nHazardous Waste of any kind* (e.g.\, batteries\, chemical material/explosives \n    fluorescent lights\, etc.) \nGreen Waste\, including dirt\, fertilizers** \n  \nPROOF OF WEST BOUNTIFUL RESIDENCY WILL BE REQUIRED \n*   Please take Hazardous Waste to Wasatch Energy Recovery Facility in Layton. \n** Please take Green Waste to Bountiful Landfill. It is accepted there year round–but the city will cover the cost during our clean-up period.
URL:https://wbcityut.gov/event/spring-clean-up-6/
LOCATION:City Park – north end
CATEGORIES:Garbage & Recycling
END:VEVENT
BEGIN:VEVENT
DTSTART;TZID=America/Chicago:20210424T080000
DTEND;TZID=America/Chicago:20210424T080000
DTSTAMP:20260425T080657
CREATED:20211209T230505Z
LAST-MODIFIED:20211209T230505Z
UID:10000069-1619251200-1619251200@wbcityut.gov
SUMMARY:Spring Clean-up
DESCRIPTION:When:\nApr 24\, 2021\n8:00 am\n\n\nWhere:\nCity Park – north end\n\n\nDetails:\nHours:  Saturday  8am – 5pm (or when bins are full)\nMonday – Friday 11:00 am – 7 pm\nSunday – NO dumping \nSunday: No dumping will be allowed \n(Bins will be barricaded after hours – PLEASE do not leave trash at barricades) \nWE WILL NOT ACCEPT: \nLead Products \nWood larger than 2x2x6’ \nChemical Material/Explosives \nPaint \nCommercial Waste \nAnimal Remains \nTires \nAppliances with Freon \nTVs \nBarbed Wire \nHazardous Waste of any kind* \nGreen Waste\, including dirt** \n  \nPROOF OF WEST BOUNTIFUL RESIDENCY WILL BE REQUIRED \n*   Please take Hazardous Waste to Wasatch Energy Recovery Facility in Layton. \n** Please take Green Waste to Bountiful Landfill. It is accepted there year round–but the city will cover the cost during our clean-up period.
URL:https://wbcityut.gov/event/spring-clean-up-7/
LOCATION:City Park – north end
CATEGORIES:Garbage & Recycling
END:VEVENT
BEGIN:VEVENT
DTSTART;TZID=America/Chicago:20210427T183000
DTEND;TZID=America/Chicago:20210427T183000
DTSTAMP:20260425T080657
CREATED:20211209T230605Z
LAST-MODIFIED:20211209T230605Z
UID:10000070-1619548200-1619548200@wbcityut.gov
SUMMARY:Joint City Council/Plng Comm mtg
DESCRIPTION:When:\nApr 27\, 2021\n6:30 pm\n\n\nWhere:\nCity Hall\n550 North 800 West\n\n\nContact:\n(801) 292-4486\n\n\nDetails:\nThis meeting will be held in person at the City Offices – 550 North 800 West beginning at 6:30 pm. \n * MASKS ARE HIGHLY ENCOURAGED *  \n  \nAGENDA: \n The West Bountiful City Council and Planning Commission will meet to discuss general land use policy including planned unit development concepts and accessory dwelling units.
URL:https://wbcityut.gov/event/joint-city-council-plng-comm-mtg/
CATEGORIES:Meetings
END:VEVENT
BEGIN:VEVENT
DTSTART;TZID=America/Chicago:20210427T193000
DTEND;TZID=America/Chicago:20210427T193000
DTSTAMP:20260425T080657
CREATED:20211209T230648Z
LAST-MODIFIED:20211209T230648Z
UID:10000071-1619551800-1619551800@wbcityut.gov
SUMMARY:Planning Commission Mtg - Cancelled
DESCRIPTION:
URL:https://wbcityut.gov/event/planning-commission-mtg-cancelled/
CATEGORIES:Meetings
END:VEVENT
END:VCALENDAR