BEGIN:VCALENDAR
VERSION:2.0
PRODID:-//West Bountiful City - ECPv6.15.17.1//NONSGML v1.0//EN
CALSCALE:GREGORIAN
METHOD:PUBLISH
X-ORIGINAL-URL:https://wbcityut.gov
X-WR-CALDESC:Events for West Bountiful City
REFRESH-INTERVAL;VALUE=DURATION:PT1H
X-Robots-Tag:noindex
X-PUBLISHED-TTL:PT1H
BEGIN:VTIMEZONE
TZID:America/Chicago
BEGIN:DAYLIGHT
TZOFFSETFROM:-0600
TZOFFSETTO:-0500
TZNAME:CDT
DTSTART:20200308T080000
END:DAYLIGHT
BEGIN:STANDARD
TZOFFSETFROM:-0500
TZOFFSETTO:-0600
TZNAME:CST
DTSTART:20201101T070000
END:STANDARD
BEGIN:DAYLIGHT
TZOFFSETFROM:-0600
TZOFFSETTO:-0500
TZNAME:CDT
DTSTART:20210314T080000
END:DAYLIGHT
BEGIN:STANDARD
TZOFFSETFROM:-0500
TZOFFSETTO:-0600
TZNAME:CST
DTSTART:20211107T070000
END:STANDARD
BEGIN:DAYLIGHT
TZOFFSETFROM:-0600
TZOFFSETTO:-0500
TZNAME:CDT
DTSTART:20220313T080000
END:DAYLIGHT
BEGIN:STANDARD
TZOFFSETFROM:-0500
TZOFFSETTO:-0600
TZNAME:CST
DTSTART:20221106T070000
END:STANDARD
END:VTIMEZONE
BEGIN:VEVENT
DTSTART;TZID=America/Chicago:20210302T193000
DTEND;TZID=America/Chicago:20210302T193000
DTSTAMP:20260425T092827
CREATED:20211209T214932Z
LAST-MODIFIED:20211209T214932Z
UID:10000047-1614713400-1614713400@wbcityut.gov
SUMMARY:City Council Mtg
DESCRIPTION:When:\nMar 2\, 2021\n7:30 pm\n\n\nWhere:\nVia Zoom (see below)\n\n\nDetails:\nMEETING WILL BE HELD VIA ZOOM. \nParticipants may access the meeting at https://us02web.zoom.us/j/88300300492 \nOr go to zoom.us Meeting ID: 883 0030 0492 \n\n Approve Agenda.\n Public Comment – two minutes per person\, or five minutes if speaking on behalf of a group.\n Res. 492-21\, A Resolution Authorizing the Issuance and the Sale of Not to Exceed $7\,000\,000 Aggregate Principal Amount of Sales Tax Revenue Bonds for the Purpose of Financing the Acquisition and Construction of a New Public Works Facility and Refunding Outstanding Sales Tax Revenue Bonds of the City.\n Amended Plat/Lot Line Adjustment for JP Estates.\n Ordinance 439-21\, An Ordinance Amending the 2019 West Bountiful General Plan to Remove References to the  Historical Overlay District and Add Clarification.\n Ordinance 440-21\, An Ordinance Amending WBMC 17.24.110 – Historical Overlay District\, and Zoning Map.\n Res. 493-21\, A Resolution Approving Amendment #6 to the Interlocal Cooperation Agreement for Animal Control Services.\n Discuss Curb\, Gutter\, and Sidewalk Construction Participation.\n Consider Purchase of Replacement Generator for City Hall.\n Minutes from February 16\, 2021.\n Staff Reports – Police\, Public Works\, Engineering\, Community Development\, Administration.\n Mayor/Council Reports.\n Closed Session for the Purpose of Discussing Items Allowed Pursuant to UCA § 52-4-205.\n Adjourn.
URL:https://wbcityut.gov/event/city-council-mtg-5/
CATEGORIES:City Council
END:VEVENT
BEGIN:VEVENT
DTSTART;TZID=America/Chicago:20210303T183000
DTEND;TZID=America/Chicago:20210303T183000
DTSTAMP:20260425T092827
CREATED:20211209T215208Z
LAST-MODIFIED:20211209T215208Z
UID:10000048-1614796200-1614796200@wbcityut.gov
SUMMARY:Arts Council Mtg
DESCRIPTION:When:\nMar 3\, 2021\n6:30 pm\n\n\nWhere:\nVia Zoom (see below)\n\n\nDetails:\n\n\nWelcome\nMinutes\nYoung Artists\nOther Concerts\nIndependence Day\nOnce around\nAdjourn\n\nJoin Zoom Meeting \nParticipants may access the meeting at https://us02web.zoom.us/j/82123685703 \nOr go to zoom.us Meeting ID: 821 2368 5703
URL:https://wbcityut.gov/event/arts-council-mtg-3/
CATEGORIES:Meetings
END:VEVENT
BEGIN:VEVENT
DTSTART;TZID=America/Chicago:20210309T193000
DTEND;TZID=America/Chicago:20210309T193000
DTSTAMP:20260425T092827
CREATED:20211209T215405Z
LAST-MODIFIED:20211209T215425Z
UID:10000049-1615318200-1615318200@wbcityut.gov
SUMMARY:Planning Commission Mtg
DESCRIPTION:When:\nMar 9\, 2021\n7:30 pm\n\n\nWhere:\nVia Zoom (see below)\n\n\nDetails:\nJoin Zoom Meeting\nhttps://us02web.zoom.us/j/89305587186 Meeting ID: 893 0558 71861.       The Mayor and the Planning Commission Chair have determined that due to the current COVID-19 pandemic and the physical distancing required to prevent the spread of infection\, public meetings present a substantial risk to the health and safety of those who may be present at the meetings. That risk can be substantially mitigated by holding this meeting through electronic means that allow for public participation without an anchor location. \n\n Prayer/Thought by Commissioner Sweat.\n Accept Agenda.\n Conditional Use Application #21-14 for Accessory Dwelling Unit at 126 Steelman Circle\, Highgate Lot #16\, Building Permit #1343.\n Conditional Use Application #21-15 for West Bountiful 400 North Viaduct Well House.\n Discuss Height Regulations and Setbacks in Residential Districts.\n Discuss Permitted\, Conditional and Prohibited Uses in Residential\, Commercial\, and Industrial Zones.\n Staff report.\n Consider Meeting Minutes from February 23\, 2021.\n Adjourn.
URL:https://wbcityut.gov/event/planning-commission-mtg-5/
CATEGORIES:Meetings
END:VEVENT
BEGIN:VEVENT
DTSTART;TZID=America/Chicago:20210311T170000
DTEND;TZID=America/Chicago:20210311T170000
DTSTAMP:20260425T092827
CREATED:20211209T215521Z
LAST-MODIFIED:20211209T215521Z
UID:10000050-1615482000-1615482000@wbcityut.gov
SUMMARY:YCC Meeting
DESCRIPTION:When:\nMar 11\, 2021\n5:00 pm\n\n\nWhere:\nVia Zoom (see below)\n\n\nDetails:\nJoin Zoom Meeting \nhttps://us02web.zoom.us/j/81782854092 \nMeeting ID: 817 8285 4092\nOne tap mobile\n+12532158782\,\,81782854092# US\n+13462487799\,\,81782854092# US \nAGENDA: \n\nWelcome/Attendance\nMayor Morrill’s Statement for Non-Anchor Meetings: Mayor Romney and I\, as Youth Mayor\, have determined that due to the current COVID-19 pandemic and the physical distancing required to prevent the spread of infection\, public meetings present a substantial risk to the health and safety of those who may be present at the meetings. That risk can be substantially mitigated by holding Youth Council meetings through electronic means that allow for public participation without an anchor location.\nYouth Thought –\nApprove Minutes from February 11\, 2021\nTreasurer’s Report\nDiscuss Easter Egg drive-through and Egg-filling work session on April 15\, 2021.\nOther Business\nAdjourn – next meeting April 8\, 2021
URL:https://wbcityut.gov/event/ycc-meeting-2/
CATEGORIES:Meetings
END:VEVENT
BEGIN:VEVENT
DTSTART;TZID=America/Chicago:20210314T000000
DTEND;TZID=America/Chicago:20210314T000000
DTSTAMP:20260425T092827
CREATED:20211209T215554Z
LAST-MODIFIED:20211209T215554Z
UID:10000051-1615680000-1615680000@wbcityut.gov
SUMMARY:DAYLIGHT SAVINGS TIME
DESCRIPTION:
URL:https://wbcityut.gov/event/daylight-savings-time/
CATEGORIES:Events
END:VEVENT
BEGIN:VEVENT
DTSTART;TZID=America/Chicago:20210316T100000
DTEND;TZID=America/Chicago:20210316T100000
DTSTAMP:20260425T092827
CREATED:20211209T215703Z
LAST-MODIFIED:20211209T215703Z
UID:10000052-1615888800-1615888800@wbcityut.gov
SUMMARY:City Council Site Visit
DESCRIPTION:When:\nMar 16\, 2021\n10:00 am\n\n\nWhere:\n155 S 750 North\, North Salt Lake\, UT\n\n\nDetails:\nThe West Bountiful City Council will hold a site visit to tour the MC Green building at 155 S 750 West\, North Salt Lake\, UT
URL:https://wbcityut.gov/event/city-council-site-visit/
CATEGORIES:City Council
END:VEVENT
BEGIN:VEVENT
DTSTART;TZID=America/Chicago:20210316T193000
DTEND;TZID=America/Chicago:20210316T193000
DTSTAMP:20260425T092827
CREATED:20211209T215823Z
LAST-MODIFIED:20211209T215823Z
UID:10000053-1615923000-1615923000@wbcityut.gov
SUMMARY:City Council Mtg
DESCRIPTION:When:Mar 16\, 2021\, 7:30 pm \nWhere:Via Zoom (see below) \nDetails:Mayor Romney has determined that due to the COVID-19 pandemic and the physical distancing needed to prevent the spread of infection\, public meetings present a substantial risk to the health and safety of those who may be present. That risk can be substantially mitigated by holding City Council meetings through electronic means that allow for public participation without an anchor location. A copy of the Mayor’s determination and order is available at www.wbcityut.gov \n  \nAGENDA: \nInvocation/Thought – Kelly Enquist; Pledge of Allegiance – Rod Wood  \n\nApprove Agenda.\nPublic Comment – two minutes per person\, or five minutes if speaking on behalf of a group.\nResolution 494-21 Appointing Alan Malan as Planning Commission Chairman and Dennis Vest as non-alternate Commissioner.\nResolution 495-21 Supporting Davis County’s Multi-Jurisdictional Hazard Mitigation Plan\nPurchase of Replacement Generator for City Hall.\nFirst Look at Fiscal Year 2022 Budget.\nMinutes from March 2\, 2021.\nStaff Reports – Police\, Public Works\, Engineering\, Community Development\, Administration.\nMayor/Council Reports.\nClosed Session for the Purpose of Discussing Items Allowed Pursuant to UCA § 52-4-205.\nAdjourn.\n\nZOOM INFO: \nParticipants may access the meeting at https://us02web.zoom.us/j/81937566633 \nOr\, go to zoom.us – select JOIN A MEETING – Meeting ID: 819 3756 6633
URL:https://wbcityut.gov/event/city-council-mtg-6/
CATEGORIES:City Council
END:VEVENT
BEGIN:VEVENT
DTSTART;TZID=America/Chicago:20210323T193000
DTEND;TZID=America/Chicago:20210323T193000
DTSTAMP:20260425T092827
CREATED:20211209T215913Z
LAST-MODIFIED:20211209T215913Z
UID:10000054-1616527800-1616527800@wbcityut.gov
SUMMARY:Planning Commission Mtg
DESCRIPTION:When:\nMar 23\, 2021\n7:30 pm\n\n\nWhere:\nVia Zoom (see below)\n\n\nDetails:\nJOIN ZOOM MEETING \nhttps://us02web.zoom.us/j/87193341750 \nMeeting ID: 871 9334 1750. \n——–\nAGENDA: \n1. The Mayor and the Planning Commission Chair have determined that due to the current COVID-19 pandemic and the physical distancing required to prevent the spread of infection\, public meetings present a substantial risk to the health and safety of those who may be present at the meetings. That risk can be substantially mitigated by holding this meeting through electronic means that allow for public participation without an anchor location. \n2.  Prayer/Thought by Commissioner Cottle. \n3.  Accept Agenda \n4.  Introduction of Proposed Brookside Ranch development. \n5.  Re-Consider Conditional Use Application #21-02 for West Bountiful 400 N Viaduct Well House. \n6.  Discuss Height Regulations/Setbacks in Residential Districts. \n7.  Staff Report. \n8.  Consider Meeting Minutes from March 9\, 2021 \n9.  Adjourn
URL:https://wbcityut.gov/event/planning-commission-mtg-6/
CATEGORIES:Meetings
END:VEVENT
END:VCALENDAR