BEGIN:VCALENDAR
VERSION:2.0
PRODID:-//West Bountiful City - ECPv6.15.17.1//NONSGML v1.0//EN
CALSCALE:GREGORIAN
METHOD:PUBLISH
X-WR-CALNAME:West Bountiful City
X-ORIGINAL-URL:https://wbcityut.gov
X-WR-CALDESC:Events for West Bountiful City
REFRESH-INTERVAL;VALUE=DURATION:PT1H
X-Robots-Tag:noindex
X-PUBLISHED-TTL:PT1H
BEGIN:VTIMEZONE
TZID:America/Chicago
BEGIN:DAYLIGHT
TZOFFSETFROM:-0600
TZOFFSETTO:-0500
TZNAME:CDT
DTSTART:20200308T080000
END:DAYLIGHT
BEGIN:STANDARD
TZOFFSETFROM:-0500
TZOFFSETTO:-0600
TZNAME:CST
DTSTART:20201101T070000
END:STANDARD
BEGIN:DAYLIGHT
TZOFFSETFROM:-0600
TZOFFSETTO:-0500
TZNAME:CDT
DTSTART:20210314T080000
END:DAYLIGHT
BEGIN:STANDARD
TZOFFSETFROM:-0500
TZOFFSETTO:-0600
TZNAME:CST
DTSTART:20211107T070000
END:STANDARD
BEGIN:DAYLIGHT
TZOFFSETFROM:-0600
TZOFFSETTO:-0500
TZNAME:CDT
DTSTART:20220313T080000
END:DAYLIGHT
BEGIN:STANDARD
TZOFFSETFROM:-0500
TZOFFSETTO:-0600
TZNAME:CST
DTSTART:20221106T070000
END:STANDARD
END:VTIMEZONE
BEGIN:VEVENT
DTSTART;TZID=America/Chicago:20211104T183000
DTEND;TZID=America/Chicago:20211104T183000
DTSTAMP:20260420T050427
CREATED:20211210T003412Z
LAST-MODIFIED:20211210T003412Z
UID:10000124-1636050600-1636050600@wbcityut.gov
SUMMARY:Arts Council Mtg
DESCRIPTION:When:\nNov 4\, 2021\n6:30 pm\n\n\nWhere:\nCity Hall\n\n\nDetails:\n\n\n Welcome\n Excuse AnJanette\, James\n Minutes\n Concerts\n Possible Future Council Member\nIndependence Day\nOnce Around\nAdjourn
URL:https://wbcityut.gov/event/arts-council-mtg-8/
LOCATION:City Hall\, 550 North 800 West\, West Bountiful\, UT\, 84087\, United States
CATEGORIES:Meetings
END:VEVENT
BEGIN:VEVENT
DTSTART;TZID=America/Chicago:20211109T193000
DTEND;TZID=America/Chicago:20211109T193000
DTSTAMP:20260420T050427
CREATED:20211210T003534Z
LAST-MODIFIED:20211210T003534Z
UID:10000126-1636486200-1636486200@wbcityut.gov
SUMMARY:Planning Commission Mtg
DESCRIPTION:When:\nNov 9\, 2021\n7:30 pm\n\n\nWhere:\nCity Hall\n550 North 800 West\n\n\nDetails:\nAGENDA: \n\n Prayer/Thought by Commissioner Mitchell.\n Accept Agenda.\n Conditional Use Application for Home Occupation Business at 963 Meadowlark Lane – John & Jessica Nelson.\n Staff report.\n Consider Meeting Minutes from October 26\, 2021.\n Commissioner Training.\n Adjourn.\n\nMEETING PACKET 11-9-2021
URL:https://wbcityut.gov/event/planning-commission-mtg-16/
LOCATION:City Hall\, 550 North 800 West\, West Bountiful\, UT\, 84087\, United States
CATEGORIES:Meetings
END:VEVENT
BEGIN:VEVENT
DTSTART;TZID=America/Chicago:20211111T170000
DTEND;TZID=America/Chicago:20211111T170000
DTSTAMP:20260420T050427
CREATED:20211210T003639Z
LAST-MODIFIED:20211210T003639Z
UID:10000128-1636650000-1636650000@wbcityut.gov
SUMMARY:Youth City Council Mtg
DESCRIPTION:
URL:https://wbcityut.gov/event/youth-city-council-mtg/
LOCATION:City Hall\, 550 North 800 West\, West Bountiful\, UT\, 84087\, United States
CATEGORIES:Meetings
END:VEVENT
BEGIN:VEVENT
DTSTART;TZID=America/Chicago:20211116T173000
DTEND;TZID=America/Chicago:20211116T173000
DTSTAMP:20260420T050427
CREATED:20211210T003729Z
LAST-MODIFIED:20211210T003729Z
UID:10000129-1637083800-1637083800@wbcityut.gov
SUMMARY:EmPAC Mtg
DESCRIPTION:When:\nNov 16\, 2021\n5:30 pm\n\n\nWhere:\nCity Hall\n\n\nDetails:\n AGENDA \n\n      Approval of Minutes from the August 17\, 2021 meeting\n      CERT Trailer Solar Panels / Replacement Logos / Inventory Update\n      Christmas Parade\n      Roundtable Discussion\n      Adjourn
URL:https://wbcityut.gov/event/empac-mtg-3/
LOCATION:City Hall\, 550 North 800 West\, West Bountiful\, UT\, 84087\, United States
CATEGORIES:Meetings
END:VEVENT
BEGIN:VEVENT
DTSTART;TZID=America/Chicago:20211123T193000
DTEND;TZID=America/Chicago:20211123T193000
DTSTAMP:20260420T050427
CREATED:20211210T004034Z
LAST-MODIFIED:20211210T004034Z
UID:10000132-1637695800-1637695800@wbcityut.gov
SUMMARY:Planning Commission Mtg - Cancelled
DESCRIPTION:
URL:https://wbcityut.gov/event/planning-commission-mtg-cancelled-5/
CATEGORIES:Meetings
END:VEVENT
END:VCALENDAR