BEGIN:VCALENDAR
VERSION:2.0
PRODID:-//West Bountiful City - ECPv6.15.17.1//NONSGML v1.0//EN
CALSCALE:GREGORIAN
METHOD:PUBLISH
X-WR-CALNAME:West Bountiful City
X-ORIGINAL-URL:https://wbcityut.gov
X-WR-CALDESC:Events for West Bountiful City
REFRESH-INTERVAL;VALUE=DURATION:PT1H
X-Robots-Tag:noindex
X-PUBLISHED-TTL:PT1H
BEGIN:VTIMEZONE
TZID:America/Chicago
BEGIN:DAYLIGHT
TZOFFSETFROM:-0600
TZOFFSETTO:-0500
TZNAME:CDT
DTSTART:20200308T080000
END:DAYLIGHT
BEGIN:STANDARD
TZOFFSETFROM:-0500
TZOFFSETTO:-0600
TZNAME:CST
DTSTART:20201101T070000
END:STANDARD
BEGIN:DAYLIGHT
TZOFFSETFROM:-0600
TZOFFSETTO:-0500
TZNAME:CDT
DTSTART:20210314T080000
END:DAYLIGHT
BEGIN:STANDARD
TZOFFSETFROM:-0500
TZOFFSETTO:-0600
TZNAME:CST
DTSTART:20211107T070000
END:STANDARD
BEGIN:DAYLIGHT
TZOFFSETFROM:-0600
TZOFFSETTO:-0500
TZNAME:CDT
DTSTART:20220313T080000
END:DAYLIGHT
BEGIN:STANDARD
TZOFFSETFROM:-0500
TZOFFSETTO:-0600
TZNAME:CST
DTSTART:20221106T070000
END:STANDARD
END:VTIMEZONE
BEGIN:VEVENT
DTSTART;TZID=America/Chicago:20210902T183000
DTEND;TZID=America/Chicago:20210902T183000
DTSTAMP:20260422T064215
CREATED:20211210T000144Z
LAST-MODIFIED:20211210T000144Z
UID:10000028-1630607400-1630607400@wbcityut.gov
SUMMARY:Arts Council Mtg
DESCRIPTION:When:\nSep 2\, 2021\n6:30 pm\n\n\nWhere:\nCity Hall\n550 N 800 West\n\n\nDetails:\nAGENDA: \n\nWelcome – Excuse Emily\nMinutes\nThank James for the dinner\nConcert Needs\nParade Chairperson\nTeacher Appreciation\nYouth Council Representation\nOnce Around\nAdjourn
URL:https://wbcityut.gov/event/arts-council-mtg-6/
LOCATION:City Hall\, 550 North 800 West\, West Bountiful\, UT\, 84087\, United States
CATEGORIES:Meetings
END:VEVENT
BEGIN:VEVENT
DTSTART;TZID=America/Chicago:20210909T170000
DTEND;TZID=America/Chicago:20210909T170000
DTSTAMP:20260422T064215
CREATED:20211210T000654Z
LAST-MODIFIED:20211210T000654Z
UID:10000036-1631206800-1631206800@wbcityut.gov
SUMMARY:Youth Council Mtg
DESCRIPTION:
URL:https://wbcityut.gov/event/youth-council-mtg-2/
LOCATION:City Hall\, 550 North 800 West\, West Bountiful\, UT\, 84087\, United States
CATEGORIES:Meetings
END:VEVENT
BEGIN:VEVENT
DTSTART;TZID=America/Chicago:20210914T193000
DTEND;TZID=America/Chicago:20210914T193000
DTSTAMP:20260422T064215
CREATED:20211210T001143Z
LAST-MODIFIED:20211210T001143Z
UID:10000091-1631647800-1631647800@wbcityut.gov
SUMMARY:Planning Commission Mtg
DESCRIPTION:When:\nSep 14\, 2021\n7:30 pm\n\n\nWhere:\nCity Hall\n550 N 800 West\n\n\nDetails:\nAGENDA: \n\nPrayer/Thought by Commissioner Cottle.\nAccept Agenda.\nPublic Hearing – Housing in Certain Commercial Areas Overlay Ordinance – WBMC 17.42.\nConsider New Ordinance\, WBMC 17.42 – Housing in Certain Commercial Areas Overlay.\nRequest for Conditional Use Permit by South Davis Sewer District to Install a Temporary Structure to Mix\, Blend\, and Stockpile Select Topsoil on the East Portion of Parcel #06-031-0030.\nStaff report.\nConsider Meeting Minutes from August 24\, 2021.\nCommission Training.\nAdjourn.\n\nELECTRONIC MEETING PACKET
URL:https://wbcityut.gov/event/planning-commission-mtg-13/
LOCATION:City Hall\, 550 North 800 West\, West Bountiful\, UT\, 84087\, United States
CATEGORIES:Meetings
END:VEVENT
BEGIN:VEVENT
DTSTART;TZID=America/Chicago:20210923T170000
DTEND;TZID=America/Chicago:20210923T170000
DTSTAMP:20260422T064215
CREATED:20211210T001429Z
LAST-MODIFIED:20211210T001429Z
UID:10000093-1632416400-1632416400@wbcityut.gov
SUMMARY:YCC Meeting
DESCRIPTION:When:\nSep 23\, 2021\n5:00 pm\n\n\nWhere:\nCity Hall\n\n\nDetails:\n AGENDA \n\nWelcome/Attendance\nYouth Thought – Cosette Curtis\nPledge of Allegiance\nApprove Minutes from September 9\, 2021\nTreasurer’s Report\nConsider Updates to Youth Council Bylaws\nDiscuss Options for Retreat and Training Event\n– Dates\n– Location\n– Chaperones\nMeet the Candidates – October 4 @ 5:45pm (Event 6:00p – 7:45p)\nChristmas On Onion Street\n– Games\n– Santa\n– Music\n– Covid Protocols\n– Conflicts: (Madrigals\, Play Dress rehearsals\, etc.)\nService Projects:- Meet the Candidates – October 4 @ 5:45 pm (event begins at 6–7:45pm); Other?\nOther Business & Reports\nShirts Update – Black Polo’s\n?\nAdjourn
URL:https://wbcityut.gov/event/ycc-meeting-4/
LOCATION:City Hall\, 550 North 800 West\, West Bountiful\, UT\, 84087\, United States
CATEGORIES:Meetings
END:VEVENT
BEGIN:VEVENT
DTSTART;TZID=America/Chicago:20210928T193000
DTEND;TZID=America/Chicago:20210928T193000
DTSTAMP:20260422T064215
CREATED:20211210T001712Z
LAST-MODIFIED:20211210T001712Z
UID:10000095-1632857400-1632857400@wbcityut.gov
SUMMARY:Planning Commission Mtg
DESCRIPTION:When:\nSep 28\, 2021\n7:30 pm\n\n\nWhere:\nCity Hall\n550 North 800 West\n\n\nDetails:\nAGENDA: \n\nPrayer/Thought by Commissioner Cottle.\nAccept Agenda.\nPublic Hearing Adding Landscape Supply as a Permitted Use to the Agricultural Specialty (A-S) Zone.\nConsider Adding Landscape Supply as a Permitted Use to the A-S Zone.\nStaff report.\nConsider Meeting Minutes from September 14\, 2021.\nAdjourn\n\n9-28-2021 MEETING PACKET
URL:https://wbcityut.gov/event/planning-commission-mtg-14/
LOCATION:City Hall\, 550 North 800 West\, West Bountiful\, UT\, 84087\, United States
CATEGORIES:Meetings
END:VEVENT
END:VCALENDAR