BEGIN:VCALENDAR
VERSION:2.0
PRODID:-//West Bountiful City - ECPv6.15.17.1//NONSGML v1.0//EN
CALSCALE:GREGORIAN
METHOD:PUBLISH
X-ORIGINAL-URL:https://wbcityut.gov
X-WR-CALDESC:Events for West Bountiful City
REFRESH-INTERVAL;VALUE=DURATION:PT1H
X-Robots-Tag:noindex
X-PUBLISHED-TTL:PT1H
BEGIN:VTIMEZONE
TZID:America/Chicago
BEGIN:DAYLIGHT
TZOFFSETFROM:-0600
TZOFFSETTO:-0500
TZNAME:CDT
DTSTART:20200308T080000
END:DAYLIGHT
BEGIN:STANDARD
TZOFFSETFROM:-0500
TZOFFSETTO:-0600
TZNAME:CST
DTSTART:20201101T070000
END:STANDARD
BEGIN:DAYLIGHT
TZOFFSETFROM:-0600
TZOFFSETTO:-0500
TZNAME:CDT
DTSTART:20210314T080000
END:DAYLIGHT
BEGIN:STANDARD
TZOFFSETFROM:-0500
TZOFFSETTO:-0600
TZNAME:CST
DTSTART:20211107T070000
END:STANDARD
BEGIN:DAYLIGHT
TZOFFSETFROM:-0600
TZOFFSETTO:-0500
TZNAME:CDT
DTSTART:20220313T080000
END:DAYLIGHT
BEGIN:STANDARD
TZOFFSETFROM:-0500
TZOFFSETTO:-0600
TZNAME:CST
DTSTART:20221106T070000
END:STANDARD
END:VTIMEZONE
BEGIN:VEVENT
DTSTART;TZID=America/Chicago:20210810T193000
DTEND;TZID=America/Chicago:20210810T193000
DTSTAMP:20260422T080731
CREATED:20211209T235409Z
LAST-MODIFIED:20211209T235409Z
UID:10000020-1628623800-1628623800@wbcityut.gov
SUMMARY:Planning Commission Mtg
DESCRIPTION:When:\nAug 10\, 2021\n7:30 pm\n\n\nWhere:\nCity Hall\n550 North 800 West\n\n\nDetails:\n\n\n Prayer/Thought by Commissioner Mitchell.\n Accept Agenda.\n Conditional Use Application for Duerden’s Appliance Warehouse at 580 W 100 North.\n Public Hearing on Proposed Fence/Clear View Area Regulations.\n Consider Proposed Changes to West Bountiful’s Fence and Clear View Area Regulations – WBMC 17.50.\n Staff report.\n Consider Meeting Minutes from July 27\, 2021.\n Commission Training.\n Adjourn.\n\nElectronic Document Packet
URL:https://wbcityut.gov/event/planning-commission-mtg-11/
LOCATION:City Hall\, 550 North 800 West\, West Bountiful\, UT\, 84087\, United States
CATEGORIES:Meetings
END:VEVENT
BEGIN:VEVENT
DTSTART;TZID=America/Chicago:20210817T173000
DTEND;TZID=America/Chicago:20210817T173000
DTSTAMP:20260422T080731
CREATED:20211209T235501Z
LAST-MODIFIED:20211209T235501Z
UID:10000022-1629221400-1629221400@wbcityut.gov
SUMMARY:EmPAC Mtg
DESCRIPTION:When:\nAug 17\, 2021\n5:30 pm\n\n\nWhere:\nCity Hall\n\n\nDetails:\nAGENDA \n\n Approval of Minutes from the May 2020 meeting\n CERT Trailer Solar Panels / Replacement Logos / Inventory\n Discussion on Flood Event\n Roundtable Discussion\n Adjourn
URL:https://wbcityut.gov/event/empac-mtg-2/
LOCATION:City Hall\, 550 North 800 West\, West Bountiful\, UT\, 84087\, United States
CATEGORIES:Meetings
END:VEVENT
BEGIN:VEVENT
DTSTART;TZID=America/Chicago:20210824T193000
DTEND;TZID=America/Chicago:20210824T193000
DTSTAMP:20260422T080731
CREATED:20211209T235855Z
LAST-MODIFIED:20211209T235855Z
UID:10000026-1629833400-1629833400@wbcityut.gov
SUMMARY:Planning Commission Mtg
DESCRIPTION:When:\nAug 24\, 2021\n7:30 pm\n\n\nWhere:\nCity Hall\n550 North 800 West\n\n\nDetails:\n\n\n      Prayer/Thought by Chairman Malan.\n      Accept Agenda.\n      Final Draft of the Housing in Certain Commercial Areas Overlay Ordinance – WBMC 17.42\, Schedule Public Hearing.\n      Preliminary Review of New Landscape Regulations.\n      Staff report.\n      Consider Meeting Minutes from August 10\, 2021.\n      Commission Training.\n      Adjourn.\n\nPlanning Commission Packet 8/24/2021
URL:https://wbcityut.gov/event/planning-commission-mtg-12/
LOCATION:City Hall\, 550 North 800 West\, West Bountiful\, UT\, 84087\, United States
CATEGORIES:Meetings
END:VEVENT
END:VCALENDAR