BEGIN:VCALENDAR
VERSION:2.0
PRODID:-//West Bountiful City - ECPv6.15.17.1//NONSGML v1.0//EN
CALSCALE:GREGORIAN
METHOD:PUBLISH
X-ORIGINAL-URL:https://wbcityut.gov
X-WR-CALDESC:Events for West Bountiful City
REFRESH-INTERVAL;VALUE=DURATION:PT1H
X-Robots-Tag:noindex
X-PUBLISHED-TTL:PT1H
BEGIN:VTIMEZONE
TZID:America/Chicago
BEGIN:DAYLIGHT
TZOFFSETFROM:-0600
TZOFFSETTO:-0500
TZNAME:CDT
DTSTART:20200308T080000
END:DAYLIGHT
BEGIN:STANDARD
TZOFFSETFROM:-0500
TZOFFSETTO:-0600
TZNAME:CST
DTSTART:20201101T070000
END:STANDARD
BEGIN:DAYLIGHT
TZOFFSETFROM:-0600
TZOFFSETTO:-0500
TZNAME:CDT
DTSTART:20210314T080000
END:DAYLIGHT
BEGIN:STANDARD
TZOFFSETFROM:-0500
TZOFFSETTO:-0600
TZNAME:CST
DTSTART:20211107T070000
END:STANDARD
BEGIN:DAYLIGHT
TZOFFSETFROM:-0600
TZOFFSETTO:-0500
TZNAME:CDT
DTSTART:20220313T080000
END:DAYLIGHT
BEGIN:STANDARD
TZOFFSETFROM:-0500
TZOFFSETTO:-0600
TZNAME:CST
DTSTART:20221106T070000
END:STANDARD
END:VTIMEZONE
BEGIN:VEVENT
DTSTART;TZID=America/Chicago:20210608T193000
DTEND;TZID=America/Chicago:20210608T193000
DTSTAMP:20260422T105611
CREATED:20211209T233831Z
LAST-MODIFIED:20211209T233831Z
UID:10000013-1623180600-1623180600@wbcityut.gov
SUMMARY:Planning Commission Mtg - Cancelled
DESCRIPTION:The planning commission meeting scheduled for June 8 has been canceled. The next meeting will be held on June 22\, 2021.
URL:https://wbcityut.gov/event/planning-commission-mtg-cancelled-2/
CATEGORIES:Meetings
END:VEVENT
BEGIN:VEVENT
DTSTART;TZID=America/Chicago:20210622T193000
DTEND;TZID=America/Chicago:20210622T193000
DTSTAMP:20260422T105611
CREATED:20211209T234213Z
LAST-MODIFIED:20211209T234213Z
UID:10000078-1624390200-1624390200@wbcityut.gov
SUMMARY:Planning Commission Mtg - Cancelled
DESCRIPTION:WEST BOUNTIFUL PLANNING COMMISSION’S REGULAR MEETING SCHEDULED FOR TUESDAY\, JUNE 22\, 2021 IS CANCELED. \nTHE NEXT PLANNING COMMISSION MEETING WILL BE HELD ON JULY 13\, 2021.
URL:https://wbcityut.gov/event/planning-commission-mtg-cancelled-3/
CATEGORIES:Meetings
END:VEVENT
END:VCALENDAR