BEGIN:VCALENDAR
VERSION:2.0
PRODID:-//West Bountiful City - ECPv6.15.17.1//NONSGML v1.0//EN
CALSCALE:GREGORIAN
METHOD:PUBLISH
X-WR-CALNAME:West Bountiful City
X-ORIGINAL-URL:https://wbcityut.gov
X-WR-CALDESC:Events for West Bountiful City
REFRESH-INTERVAL;VALUE=DURATION:PT1H
X-Robots-Tag:noindex
X-PUBLISHED-TTL:PT1H
BEGIN:VTIMEZONE
TZID:America/Chicago
BEGIN:DAYLIGHT
TZOFFSETFROM:-0600
TZOFFSETTO:-0500
TZNAME:CDT
DTSTART:20200308T080000
END:DAYLIGHT
BEGIN:STANDARD
TZOFFSETFROM:-0500
TZOFFSETTO:-0600
TZNAME:CST
DTSTART:20201101T070000
END:STANDARD
BEGIN:DAYLIGHT
TZOFFSETFROM:-0600
TZOFFSETTO:-0500
TZNAME:CDT
DTSTART:20210314T080000
END:DAYLIGHT
BEGIN:STANDARD
TZOFFSETFROM:-0500
TZOFFSETTO:-0600
TZNAME:CST
DTSTART:20211107T070000
END:STANDARD
BEGIN:DAYLIGHT
TZOFFSETFROM:-0600
TZOFFSETTO:-0500
TZNAME:CDT
DTSTART:20220313T080000
END:DAYLIGHT
BEGIN:STANDARD
TZOFFSETFROM:-0500
TZOFFSETTO:-0600
TZNAME:CST
DTSTART:20221106T070000
END:STANDARD
END:VTIMEZONE
BEGIN:VEVENT
DTSTART;TZID=America/Chicago:20210107T183000
DTEND;TZID=America/Chicago:20210107T183000
DTSTAMP:20260422T171422
CREATED:20211209T210336Z
LAST-MODIFIED:20211209T214016Z
UID:10000021-1610044200-1610044200@wbcityut.gov
SUMMARY:Arts Council Mtg
DESCRIPTION:When:\nJan 7\, 2021\n6:30 pm\n\n\nDetails:\nAGENDA \n\n Welcome – (Excuse Emily and Debbie)\n Minutes\n Concerts\n Sherry Meidell’s Art\n Lights in the Park for Christmas (James)\n Once around\n Adjourn\n\nJoin Zoom Meeting \nhttps://us02web.zoom.us/j/84304964480?pwd=NldKb0Q1cjltRm1QNkVYbHRLM2V5Zz09 \nMeeting ID: 843 0496 4480 \nPasscode: 307640 \n  \nDial by your location \n+1 253 215 8782 US (Tacoma)                   +1 346 248 7799 US (Houston) \n+1 408 638 0968 US (San Jose)                  +1 669 900 6833 US (San Jose)
URL:https://wbcityut.gov/event/arts-council-mtg/
CATEGORIES:Meetings
END:VEVENT
BEGIN:VEVENT
DTSTART;TZID=America/Chicago:20210112T180000
DTEND;TZID=America/Chicago:20210112T180000
DTSTAMP:20260422T171423
CREATED:20211209T210417Z
LAST-MODIFIED:20211209T214003Z
UID:10000023-1610474400-1610474400@wbcityut.gov
SUMMARY:City Council Neighborhood Mtg
DESCRIPTION:When:\nJan 12\, 2021\n6:00 pm\n\n\nDetails:\nNeighborhood Meeting to discuss the West Bountiful City pickleball courts to be located on the south side of city hall. \n  \nJoin Zoom Meeting: \nTopic: Neighborhood Pickleball Meeting \nTime: Jan 12\, 2021 06:00 PM Mountain Time (US and Canada) \nhttps://us02web.zoom.us/j/83366627953 \nMeeting ID: 833 6662 7953 \n+1 346 248 7799 US                       +1 408 638 0968 US               +1 312 626 6799\n+1 646 876 9923 US                       +1 301 715 8592 US               +1 669 900 6833
URL:https://wbcityut.gov/event/city-council-neighborhood-mtg/
CATEGORIES:Meetings
END:VEVENT
BEGIN:VEVENT
DTSTART;TZID=America/Chicago:20210112T193000
DTEND;TZID=America/Chicago:20210112T193000
DTSTAMP:20260422T171423
CREATED:20211209T210520Z
LAST-MODIFIED:20211209T213943Z
UID:10000025-1610479800-1610479800@wbcityut.gov
SUMMARY:Planning Commission Mtg
DESCRIPTION:When:\nJan 12\, 2021\n7:30 pm\n\n\nDetails:\nAGENDA:\nMeeting will be held exclusively via Zoom (see info below)The Mayor and the Planning Commission Chair have determined that due to the current COVID-19 pandemic and the physical distancing required to prevent the spread of infection\, public meetings present a substantial risk to the health and safety of those who may be present at the meetings. That risk can be substantially mitigated by holding this meeting through electronic means that allow for public participation without an anchor location. \n1.       Accept Agenda. \n\n       Public Hearing Regarding a Proposal to Eliminate the Historical Overlay District – WBMC 17.24.110 and Establish a New Historic District.\n       Consider Proposed Changes to WBMC 17.24.110 Historical Overlay District and Historic District Map.\n       Discuss Proposed Changes to the West Bountiful General Plan Associated with Historic Areas and Set Public Hearing.\n       Discuss Proposed Changes to WBMC 17.82.110 Accessory Dwelling Units\n       Staff report.\n       Consider Meeting Minutes from November 24\, 2020.\n       Adjourn.\n\nJoin Zoom Meeting \n https://us02web.zoom.us/j/83245492865 \nMeeting ID: 832 4549 2865\nOne tap mobile\n+16699006833\,\,83245492865# US (San Jose)\n+12532158782\,\,83245492865# US (Tacoma) \nDial by your location\n+1 669 900 6833 US (San Jose)                                                  +1 253 215 8782 US (Tacoma)\n+1 346 248 7799 US (Houston)                                                  +1 408 638 0968 US (San Jose)\n+1 312 626 6799 US (Chicago)                                                    +1 646 876 9923 US (New York)\n+1 301 715 8592 US (Washington D.C) \nFind your local number: https://us02web.zoom.us/u/klfyKuxPw
URL:https://wbcityut.gov/event/planning-commission-mtg/
CATEGORIES:Meetings
END:VEVENT
BEGIN:VEVENT
DTSTART;TZID=America/Chicago:20210112T193000
DTEND;TZID=America/Chicago:20210112T193000
DTSTAMP:20260422T171423
CREATED:20211209T210611Z
LAST-MODIFIED:20211209T213934Z
UID:10000027-1610479800-1610479800@wbcityut.gov
SUMMARY:Public Hearing - Historic District
DESCRIPTION:When:\nJan 12\, 2021\n7:30 pm\n\n\nWhere:\nVia Zoom (see below)\n\n\nDetails:\nNOTICE OF PUBLIC HEARING \n  \nA public hearing will be held electronically via Zoom on Tuesday\, January 12\, 2021 beginning at 7:30 p.m. by the West Bountiful Planning Commission \nThe purpose of the hearing is to receive public comment regarding a proposal to eliminate the Historical Overlay District\, WBMC Section 17.24.110. This proposal does not eliminate the Historic District in the City but removes the strict design and building regulations for homes within the District. \nA description of the proposal is available for review at www.WBCity.org under the Public Notice tab. \nAll interested parties are invited to participate in the hearing. Written comments may be submitted prior to the meeting to Recorder@WBCity.org \n  \nCathy Brightwell \nCity Recorder \n—————————————————— \n Join Zoom Meeting \n https://us02web.zoom.us/j/83245492865 \nMeeting ID: 832 4549 2865\nOne tap mobile\n+16699006833\,\,83245492865# US (San Jose)\n+12532158782\,\,83245492865# US (Tacoma) \nDial by your location\n+1 669 900 6833 US (San Jose)                                                  +1 253 215 8782 US (Tacoma)\n+1 346 248 7799 US (Houston)                                                  +1 408 638 0968 US (San Jose)\n+1 312 626 6799 US (Chicago)                                                    +1 646 876 9923 US (New York)\n+1 301 715 8592 US (Washington D.C) \nFind your local number: https://us02web.zoom.us/u/klfyKuxPw
URL:https://wbcityut.gov/event/public-hearing-historic-district/
CATEGORIES:Meetings
END:VEVENT
BEGIN:VEVENT
DTSTART;TZID=America/Chicago:20210114T170000
DTEND;TZID=America/Chicago:20210114T170000
DTSTAMP:20260422T171423
CREATED:20211209T210816Z
LAST-MODIFIED:20211209T210816Z
UID:10000029-1610643600-1610643600@wbcityut.gov
SUMMARY:Youth Council Mtg - Cancelled
DESCRIPTION:
URL:https://wbcityut.gov/event/youth-council-mtg-cancelled/
CATEGORIES:Meetings
END:VEVENT
BEGIN:VEVENT
DTSTART;TZID=America/Chicago:20210126T193000
DTEND;TZID=America/Chicago:20210126T193000
DTSTAMP:20260422T171423
CREATED:20211209T211342Z
LAST-MODIFIED:20211209T213910Z
UID:10000035-1611689400-1611689400@wbcityut.gov
SUMMARY:Planning Commission Mtg
DESCRIPTION:When:\nJan 26\, 2021\n7:30 pm\n\n\nWhere:\nVia Zoom (see below)\n\n\nDetails:\nPrayer/Thought by Laura Charchenko \n1.       The Mayor and the Planning Commission Chair have determined that due to the current COVID-19 pandemic and the physical distancing required to prevent the spread of infection\, public meetings present a substantial risk to the health and safety of those who may be present at the meetings. That risk can be substantially mitigated by holding this meeting through electronic means that allow for public participation without an anchor location. \n\n       Accept Agenda.\n       Discuss Proposed Changes to WBMC 17.60 Conditional Uses\n       Discuss Non-Commercial Structures in the A-1 District.\n       Discuss Height Regulations in Residential Districts.\n       Staff report.\n       Consider Meeting Minutes from January 12\, 2021.\n       Adjourn.\n\nJoin Zoom Meeting \nhttps://us02web.zoom.us/j/86241379056 \nMeeting ID: 862 4137 9056 \nDial: +1 253 215 8782   or     +1 346 248 7799
URL:https://wbcityut.gov/event/planning-commission-mtg-2/
CATEGORIES:Meetings
END:VEVENT
END:VCALENDAR