BEGIN:VCALENDAR
VERSION:2.0
PRODID:-//West Bountiful City - ECPv6.15.17.1//NONSGML v1.0//EN
CALSCALE:GREGORIAN
METHOD:PUBLISH
X-ORIGINAL-URL:https://wbcityut.gov
X-WR-CALDESC:Events for West Bountiful City
REFRESH-INTERVAL;VALUE=DURATION:PT1H
X-Robots-Tag:noindex
X-PUBLISHED-TTL:PT1H
BEGIN:VTIMEZONE
TZID:America/Chicago
BEGIN:DAYLIGHT
TZOFFSETFROM:-0600
TZOFFSETTO:-0500
TZNAME:CDT
DTSTART:20230312T080000
END:DAYLIGHT
BEGIN:STANDARD
TZOFFSETFROM:-0500
TZOFFSETTO:-0600
TZNAME:CST
DTSTART:20231105T070000
END:STANDARD
BEGIN:DAYLIGHT
TZOFFSETFROM:-0600
TZOFFSETTO:-0500
TZNAME:CDT
DTSTART:20240310T080000
END:DAYLIGHT
BEGIN:STANDARD
TZOFFSETFROM:-0500
TZOFFSETTO:-0600
TZNAME:CST
DTSTART:20241103T070000
END:STANDARD
BEGIN:DAYLIGHT
TZOFFSETFROM:-0600
TZOFFSETTO:-0500
TZNAME:CDT
DTSTART:20250309T080000
END:DAYLIGHT
BEGIN:STANDARD
TZOFFSETFROM:-0500
TZOFFSETTO:-0600
TZNAME:CST
DTSTART:20251102T070000
END:STANDARD
END:VTIMEZONE
BEGIN:VEVENT
DTSTART;TZID=America/Chicago:20241111T130000
DTEND;TZID=America/Chicago:20241111T140000
DTSTAMP:20260421T115103
CREATED:20240104T181405Z
LAST-MODIFIED:20240104T181405Z
UID:10000415-1731330000-1731333600@wbcityut.gov
SUMMARY:Veterans Day - City Offices Closed
DESCRIPTION:
URL:https://wbcityut.gov/event/veterans-day-city-offices-closed-4/
CATEGORIES:Holiday
END:VEVENT
BEGIN:VEVENT
DTSTART;TZID=America/Chicago:20241128T130000
DTEND;TZID=America/Chicago:20241128T140000
DTSTAMP:20260421T115103
CREATED:20240104T181438Z
LAST-MODIFIED:20240104T181438Z
UID:10000416-1732798800-1732802400@wbcityut.gov
SUMMARY:Thanksgiving Day - City Offices Closed
DESCRIPTION:
URL:https://wbcityut.gov/event/thanksgiving-day-city-offices-closed/
CATEGORIES:Holiday
END:VEVENT
END:VCALENDAR