BEGIN:VCALENDAR
VERSION:2.0
PRODID:-//West Bountiful City - ECPv6.15.17.1//NONSGML v1.0//EN
CALSCALE:GREGORIAN
METHOD:PUBLISH
X-WR-CALNAME:West Bountiful City
X-ORIGINAL-URL:https://wbcityut.gov
X-WR-CALDESC:Events for West Bountiful City
REFRESH-INTERVAL;VALUE=DURATION:PT1H
X-Robots-Tag:noindex
X-PUBLISHED-TTL:PT1H
BEGIN:VTIMEZONE
TZID:America/Chicago
BEGIN:DAYLIGHT
TZOFFSETFROM:-0600
TZOFFSETTO:-0500
TZNAME:CDT
DTSTART:20230312T080000
END:DAYLIGHT
BEGIN:STANDARD
TZOFFSETFROM:-0500
TZOFFSETTO:-0600
TZNAME:CST
DTSTART:20231105T070000
END:STANDARD
BEGIN:DAYLIGHT
TZOFFSETFROM:-0600
TZOFFSETTO:-0500
TZNAME:CDT
DTSTART:20240310T080000
END:DAYLIGHT
BEGIN:STANDARD
TZOFFSETFROM:-0500
TZOFFSETTO:-0600
TZNAME:CST
DTSTART:20241103T070000
END:STANDARD
BEGIN:DAYLIGHT
TZOFFSETFROM:-0600
TZOFFSETTO:-0500
TZNAME:CDT
DTSTART:20250309T080000
END:DAYLIGHT
BEGIN:STANDARD
TZOFFSETFROM:-0500
TZOFFSETTO:-0600
TZNAME:CST
DTSTART:20251102T070000
END:STANDARD
END:VTIMEZONE
BEGIN:VEVENT
DTSTART;TZID=America/Chicago:20240209T190000
DTEND;TZID=America/Chicago:20240209T200000
DTSTAMP:20260422T012321
CREATED:20240113T003732Z
LAST-MODIFIED:20240113T003732Z
UID:10000421-1707505200-1707508800@wbcityut.gov
SUMMARY:Arts Council Concert - Jim Child
DESCRIPTION:Join us for a remarkable evening sponsored by the West Bountiful Arts Council\, featuring the acclaimed wildlife photographer\, Jim Child.  Experience the wonder of nature through Jim’s lens as he presents his captivating wildlife photography and shares fascinating stories from his journeys. Discover how he captures the perfect light at just the right moment to take an award-winning photo. \nYou won’t want to miss this unforgettable evening. Join us Friday\, February 9\, at 7:00 p.m. at City Hall (500 N 800 W). \nJim’s stunning photographs will be on exhibit in the council chambers at City Hall for the next six months. \nWe would like to express our appreciation to city council liaison\, James Bruhn for his outstanding service and support to the Arts Council during his time on the board. As we bid farewell to James\, we look forward to working with Kelly Enquist as our new city council liaison.
URL:https://wbcityut.gov/event/arts-council-concert-jim-child-2/
CATEGORIES:Holiday
END:VEVENT
BEGIN:VEVENT
DTSTART;TZID=America/Chicago:20240219T073000
DTEND;TZID=America/Chicago:20240219T120000
DTSTAMP:20260422T012321
CREATED:20231124T162812Z
LAST-MODIFIED:20231124T162812Z
UID:10000380-1708327800-1708344000@wbcityut.gov
SUMMARY:President's Day - City Offices Closed
DESCRIPTION:President’s Day – City Offices Closed
URL:https://wbcityut.gov/event/presidents-day-city-offices-closed-3/
CATEGORIES:Holiday
END:VEVENT
END:VCALENDAR