BEGIN:VCALENDAR
VERSION:2.0
PRODID:-//West Bountiful City - ECPv6.15.17.1//NONSGML v1.0//EN
CALSCALE:GREGORIAN
METHOD:PUBLISH
X-ORIGINAL-URL:https://wbcityut.gov
X-WR-CALDESC:Events for West Bountiful City
REFRESH-INTERVAL;VALUE=DURATION:PT1H
X-Robots-Tag:noindex
X-PUBLISHED-TTL:PT1H
BEGIN:VTIMEZONE
TZID:America/Chicago
BEGIN:DAYLIGHT
TZOFFSETFROM:-0600
TZOFFSETTO:-0500
TZNAME:CDT
DTSTART:20230312T080000
END:DAYLIGHT
BEGIN:STANDARD
TZOFFSETFROM:-0500
TZOFFSETTO:-0600
TZNAME:CST
DTSTART:20231105T070000
END:STANDARD
BEGIN:DAYLIGHT
TZOFFSETFROM:-0600
TZOFFSETTO:-0500
TZNAME:CDT
DTSTART:20240310T080000
END:DAYLIGHT
BEGIN:STANDARD
TZOFFSETFROM:-0500
TZOFFSETTO:-0600
TZNAME:CST
DTSTART:20241103T070000
END:STANDARD
BEGIN:DAYLIGHT
TZOFFSETFROM:-0600
TZOFFSETTO:-0500
TZNAME:CDT
DTSTART:20250309T080000
END:DAYLIGHT
BEGIN:STANDARD
TZOFFSETFROM:-0500
TZOFFSETTO:-0600
TZNAME:CST
DTSTART:20251102T070000
END:STANDARD
END:VTIMEZONE
BEGIN:VEVENT
DTSTART;VALUE=DATE:20240101
DTEND;VALUE=DATE:20240102
DTSTAMP:20260422T024641
CREATED:20230301T215138Z
LAST-MODIFIED:20230301T215138Z
UID:10000348-1704067200-1704153599@wbcityut.gov
SUMMARY:New Year's Day - city offices closed
DESCRIPTION:
URL:https://wbcityut.gov/event/new-years-day-city-offices-closed-2/
CATEGORIES:Holiday
END:VEVENT
BEGIN:VEVENT
DTSTART;VALUE=DATE:20240115
DTEND;VALUE=DATE:20240116
DTSTAMP:20260422T024641
CREATED:20230301T215657Z
LAST-MODIFIED:20230301T215657Z
UID:10000351-1705276800-1705363199@wbcityut.gov
SUMMARY:Martin Luther King Holiday-city offices closed
DESCRIPTION:
URL:https://wbcityut.gov/event/martin-luther-king-holiday-city-offices-closed/
CATEGORIES:Holiday
END:VEVENT
END:VCALENDAR