BEGIN:VCALENDAR
VERSION:2.0
PRODID:-//West Bountiful City - ECPv6.15.17.1//NONSGML v1.0//EN
CALSCALE:GREGORIAN
METHOD:PUBLISH
X-ORIGINAL-URL:https://wbcityut.gov
X-WR-CALDESC:Events for West Bountiful City
REFRESH-INTERVAL;VALUE=DURATION:PT1H
X-Robots-Tag:noindex
X-PUBLISHED-TTL:PT1H
BEGIN:VTIMEZONE
TZID:America/Chicago
BEGIN:DAYLIGHT
TZOFFSETFROM:-0600
TZOFFSETTO:-0500
TZNAME:CDT
DTSTART:20230312T080000
END:DAYLIGHT
BEGIN:STANDARD
TZOFFSETFROM:-0500
TZOFFSETTO:-0600
TZNAME:CST
DTSTART:20231105T070000
END:STANDARD
BEGIN:DAYLIGHT
TZOFFSETFROM:-0600
TZOFFSETTO:-0500
TZNAME:CDT
DTSTART:20240310T080000
END:DAYLIGHT
BEGIN:STANDARD
TZOFFSETFROM:-0500
TZOFFSETTO:-0600
TZNAME:CST
DTSTART:20241103T070000
END:STANDARD
BEGIN:DAYLIGHT
TZOFFSETFROM:-0600
TZOFFSETTO:-0500
TZNAME:CDT
DTSTART:20250309T080000
END:DAYLIGHT
BEGIN:STANDARD
TZOFFSETFROM:-0500
TZOFFSETTO:-0600
TZNAME:CST
DTSTART:20251102T070000
END:STANDARD
END:VTIMEZONE
BEGIN:VEVENT
DTSTART;TZID=America/Chicago:20240510T190000
DTEND;TZID=America/Chicago:20240510T200000
DTSTAMP:20260421T032027
CREATED:20240507T165937Z
LAST-MODIFIED:20240507T165937Z
UID:10000434-1715367600-1715371200@wbcityut.gov
SUMMARY:Arts Council Concert - The Three Amigos
DESCRIPTION:The West Bountiful Arts Council is thrilled to present the 3 Amigos on stage for our Spring/Summer Concert Series on Friday\, May 10th\, at West Bountiful City Hall. The 3 Amigos ensemble will delight us with classic favorites from legends like James Taylor\, Merle Haggard\, and Jimmy Buffett\, to name a few. Comprised of the talented Bill Brimley\, Ron Hendry\, and Dan Shumway\, this dynamic musical trio captivates audiences wherever they go. Whether at private parties\, restaurants\, weddings\, or community events\, the 3 Amigos relish the occasion to share their passion for music and spread happiness.\n\n\n \nGather your family and friends and join us for an evening filled with memorable music.
URL:https://wbcityut.gov/event/arts-council-concert-the-three-amigos/
CATEGORIES:Events
END:VEVENT
END:VCALENDAR