BEGIN:VCALENDAR
VERSION:2.0
PRODID:-//West Bountiful City - ECPv6.15.17.1//NONSGML v1.0//EN
CALSCALE:GREGORIAN
METHOD:PUBLISH
X-WR-CALNAME:West Bountiful City
X-ORIGINAL-URL:https://wbcityut.gov
X-WR-CALDESC:Events for West Bountiful City
REFRESH-INTERVAL;VALUE=DURATION:PT1H
X-Robots-Tag:noindex
X-PUBLISHED-TTL:PT1H
BEGIN:VTIMEZONE
TZID:America/Chicago
BEGIN:DAYLIGHT
TZOFFSETFROM:-0600
TZOFFSETTO:-0500
TZNAME:CDT
DTSTART:20220313T080000
END:DAYLIGHT
BEGIN:STANDARD
TZOFFSETFROM:-0500
TZOFFSETTO:-0600
TZNAME:CST
DTSTART:20221106T070000
END:STANDARD
BEGIN:DAYLIGHT
TZOFFSETFROM:-0600
TZOFFSETTO:-0500
TZNAME:CDT
DTSTART:20230312T080000
END:DAYLIGHT
BEGIN:STANDARD
TZOFFSETFROM:-0500
TZOFFSETTO:-0600
TZNAME:CST
DTSTART:20231105T070000
END:STANDARD
BEGIN:DAYLIGHT
TZOFFSETFROM:-0600
TZOFFSETTO:-0500
TZNAME:CDT
DTSTART:20240310T080000
END:DAYLIGHT
BEGIN:STANDARD
TZOFFSETFROM:-0500
TZOFFSETTO:-0600
TZNAME:CST
DTSTART:20241103T070000
END:STANDARD
END:VTIMEZONE
BEGIN:VEVENT
DTSTART;TZID=America/Chicago:20230703T170000
DTEND;TZID=America/Chicago:20230703T223000
DTSTAMP:20260423T134319
CREATED:20221027T024908Z
LAST-MODIFIED:20230606T133005Z
UID:10000292-1688403600-1688423400@wbcityut.gov
SUMMARY:Independence Day Celebration
DESCRIPTION:Monday\, July 3rd (all at City Park\, 550 W Pages Ln) \n5:30 – 8:30 pm     Carnival \n6:00 – 9:00 pm     Safety Fair \n8:00 -10:00 pm   Concert – Mike Murphy & Friends \n10:00 pm     Fireworks \nTuesday\, July 4th \n7:30 am   Flag-raising Ceremony at City Hall \n10 am     Parade (begins 400N/800 W\, north to Pages Ln (1600)\, east to 600 W\, north to 1890 N)
URL:https://wbcityut.gov/event/independence-day-celebration-2/
CATEGORIES:Events
END:VEVENT
BEGIN:VEVENT
DTSTART;TZID=America/Chicago:20230704T073000
DTEND;TZID=America/Chicago:20230704T120000
DTSTAMP:20260423T134319
CREATED:20221027T005027Z
LAST-MODIFIED:20230302T132644Z
UID:10000261-1688455800-1688472000@wbcityut.gov
SUMMARY:Independence Day Celebration
DESCRIPTION:Monday\, July 3rd (all at City Park 550 W Pages Ln) \n5 pm – 8:30 pm     Carnival \n6 pm – 9:00 pm     Safety Fair \n8 pm – 10:00 pm   Concert – Mike Murphy \n10 pm     Fireworks \nTuesday\, July 4th \n7:30 am   Flag-raising Ceremony at City Hall \n10 am     Parade (begins 400N/800 W\, north to Pages\, east to 600 W\, north to 1890 N)
URL:https://wbcityut.gov/event/independence-day-celebration/
CATEGORIES:Events
END:VEVENT
BEGIN:VEVENT
DTSTART;TZID=America/Chicago:20230711T193000
DTEND;TZID=America/Chicago:20230711T193000
DTSTAMP:20260423T134319
CREATED:20230706T224857Z
LAST-MODIFIED:20230706T224857Z
UID:10000360-1689103800-1689103800@wbcityut.gov
SUMMARY:City Council-Planning Commission
DESCRIPTION:The West Bountiful City Council and Planning Commission will tour the Public Works facility at 1410 W 1200 North.
URL:https://wbcityut.gov/event/city-council-planning-commission/
CATEGORIES:Events
END:VEVENT
END:VCALENDAR