BEGIN:VCALENDAR
VERSION:2.0
PRODID:-//West Bountiful City - ECPv6.15.17.1//NONSGML v1.0//EN
CALSCALE:GREGORIAN
METHOD:PUBLISH
X-WR-CALNAME:West Bountiful City
X-ORIGINAL-URL:https://wbcityut.gov
X-WR-CALDESC:Events for West Bountiful City
REFRESH-INTERVAL;VALUE=DURATION:PT1H
X-Robots-Tag:noindex
X-PUBLISHED-TTL:PT1H
BEGIN:VTIMEZONE
TZID:America/Chicago
BEGIN:DAYLIGHT
TZOFFSETFROM:-0600
TZOFFSETTO:-0500
TZNAME:CDT
DTSTART:20220313T080000
END:DAYLIGHT
BEGIN:STANDARD
TZOFFSETFROM:-0500
TZOFFSETTO:-0600
TZNAME:CST
DTSTART:20221106T070000
END:STANDARD
BEGIN:DAYLIGHT
TZOFFSETFROM:-0600
TZOFFSETTO:-0500
TZNAME:CDT
DTSTART:20230312T080000
END:DAYLIGHT
BEGIN:STANDARD
TZOFFSETFROM:-0500
TZOFFSETTO:-0600
TZNAME:CST
DTSTART:20231105T070000
END:STANDARD
BEGIN:DAYLIGHT
TZOFFSETFROM:-0600
TZOFFSETTO:-0500
TZNAME:CDT
DTSTART:20240310T080000
END:DAYLIGHT
BEGIN:STANDARD
TZOFFSETFROM:-0500
TZOFFSETTO:-0600
TZNAME:CST
DTSTART:20241103T070000
END:STANDARD
END:VTIMEZONE
BEGIN:VEVENT
DTSTART;TZID=America/Chicago:20230210T190000
DTEND;TZID=America/Chicago:20230210T203000
DTSTAMP:20260423T200809
CREATED:20221027T021918Z
LAST-MODIFIED:20230126T033244Z
UID:10000270-1676055600-1676061000@wbcityut.gov
SUMMARY:Arts Council Concert
DESCRIPTION:Come and enjoy a delightful and heartwarming evening with performances by sweetheart couples Jared and Michelle Cox\, Jay and Emily Burton\, and Mike and Lesley Leger. They will share a variety of musical performances that you will not want to miss. Come and make this concert the perfect beginning to your Valentine celebration. \nSponsored by West Bountiful Art’s Council\, the Valentine’s concert will be held at City Hall (500 N 800 W) Friday\, February 10\, at 7:00 p.m.
URL:https://wbcityut.gov/event/arts-council-concert-6/
CATEGORIES:Events
ATTACH;FMTTYPE=image/png:https://cdn.townweb.com/wbcityut.gov/wp-content/uploads/2023/01/Valentines-Concert.png
END:VEVENT
BEGIN:VEVENT
DTSTART;VALUE=DATE:20230220
DTEND;VALUE=DATE:20230221
DTSTAMP:20260423T200809
CREATED:20221027T022446Z
LAST-MODIFIED:20230216T034510Z
UID:10000273-1676851200-1676937599@wbcityut.gov
SUMMARY:President's Day - City Offices Closed
DESCRIPTION:
URL:https://wbcityut.gov/event/presidents-day/
CATEGORIES:Events
END:VEVENT
END:VCALENDAR