BEGIN:VCALENDAR
VERSION:2.0
PRODID:-//West Bountiful City - ECPv6.15.17.1//NONSGML v1.0//EN
CALSCALE:GREGORIAN
METHOD:PUBLISH
X-WR-CALNAME:West Bountiful City
X-ORIGINAL-URL:https://wbcityut.gov
X-WR-CALDESC:Events for West Bountiful City
REFRESH-INTERVAL;VALUE=DURATION:PT1H
X-Robots-Tag:noindex
X-PUBLISHED-TTL:PT1H
BEGIN:VTIMEZONE
TZID:America/Chicago
BEGIN:DAYLIGHT
TZOFFSETFROM:-0600
TZOFFSETTO:-0500
TZNAME:CDT
DTSTART:20210314T080000
END:DAYLIGHT
BEGIN:STANDARD
TZOFFSETFROM:-0500
TZOFFSETTO:-0600
TZNAME:CST
DTSTART:20211107T070000
END:STANDARD
BEGIN:DAYLIGHT
TZOFFSETFROM:-0600
TZOFFSETTO:-0500
TZNAME:CDT
DTSTART:20220313T080000
END:DAYLIGHT
BEGIN:STANDARD
TZOFFSETFROM:-0500
TZOFFSETTO:-0600
TZNAME:CST
DTSTART:20221106T070000
END:STANDARD
BEGIN:DAYLIGHT
TZOFFSETFROM:-0600
TZOFFSETTO:-0500
TZNAME:CDT
DTSTART:20230312T080000
END:DAYLIGHT
BEGIN:STANDARD
TZOFFSETFROM:-0500
TZOFFSETTO:-0600
TZNAME:CST
DTSTART:20231105T070000
END:STANDARD
END:VTIMEZONE
BEGIN:VEVENT
DTSTART;TZID=America/Chicago:20221210T140000
DTEND;TZID=America/Chicago:20221210T160000
DTSTAMP:20260423T225719
CREATED:20221022T025918Z
LAST-MODIFIED:20221027T001821Z
UID:10000259-1670680800-1670688000@wbcityut.gov
SUMMARY:Christmas on Onion Street
DESCRIPTION:Join us again this year for the annual Christmas on Onion Street holiday celebration! \nSaturday\, December 10\, 2022 \n2pm – 4pm:  (City park) Local choirs\, children’s activities\, hot chocolate and cookies. \n5-7:30pm:  Santa parade through the city
URL:https://wbcityut.gov/event/christmas-on-onion-street/
CATEGORIES:Events
ATTACH;FMTTYPE=image/jpeg:https://cdn.townweb.com/wbcityut.gov/wp-content/uploads/2022/10/2014-Santa-Frosty.jpg
END:VEVENT
BEGIN:VEVENT
DTSTART;TZID=America/Chicago:20221210T170000
DTEND;TZID=America/Chicago:20221210T193000
DTSTAMP:20260423T225719
CREATED:20221122T213058Z
LAST-MODIFIED:20221209T171642Z
UID:10000319-1670691600-1670700600@wbcityut.gov
SUMMARY:Santa Parade
DESCRIPTION:Santa and friends will ride through the city on a firetruck – Saturday\, December 10. The parade will leave city hall at 5pm and is expected to finish around 7:30pm. \nCLICK HERE to view Santa’s route through town.
URL:https://wbcityut.gov/event/santa-parade/
CATEGORIES:Events
ATTACH;FMTTYPE=image/jpeg:https://cdn.townweb.com/wbcityut.gov/wp-content/uploads/2022/12/YCC-6-scaled.jpg
END:VEVENT
END:VCALENDAR