BEGIN:VCALENDAR
VERSION:2.0
PRODID:-//West Bountiful City - ECPv6.15.17.1//NONSGML v1.0//EN
CALSCALE:GREGORIAN
METHOD:PUBLISH
X-ORIGINAL-URL:https://wbcityut.gov
X-WR-CALDESC:Events for West Bountiful City
REFRESH-INTERVAL;VALUE=DURATION:PT1H
X-Robots-Tag:noindex
X-PUBLISHED-TTL:PT1H
BEGIN:VTIMEZONE
TZID:America/Chicago
BEGIN:DAYLIGHT
TZOFFSETFROM:-0600
TZOFFSETTO:-0500
TZNAME:CDT
DTSTART:20210314T080000
END:DAYLIGHT
BEGIN:STANDARD
TZOFFSETFROM:-0500
TZOFFSETTO:-0600
TZNAME:CST
DTSTART:20211107T070000
END:STANDARD
BEGIN:DAYLIGHT
TZOFFSETFROM:-0600
TZOFFSETTO:-0500
TZNAME:CDT
DTSTART:20220313T080000
END:DAYLIGHT
BEGIN:STANDARD
TZOFFSETFROM:-0500
TZOFFSETTO:-0600
TZNAME:CST
DTSTART:20221106T070000
END:STANDARD
BEGIN:DAYLIGHT
TZOFFSETFROM:-0600
TZOFFSETTO:-0500
TZNAME:CDT
DTSTART:20230312T080000
END:DAYLIGHT
BEGIN:STANDARD
TZOFFSETFROM:-0500
TZOFFSETTO:-0600
TZNAME:CST
DTSTART:20231105T070000
END:STANDARD
END:VTIMEZONE
BEGIN:VEVENT
DTSTART;TZID=America/Chicago:20220704T073000
DTEND;TZID=America/Chicago:20220704T220000
DTSTAMP:20260424T053758
CREATED:20220211T201358Z
LAST-MODIFIED:20220624T213843Z
UID:10000103-1656919800-1656972000@wbcityut.gov
SUMMARY:JULY 4 CELEBRATION
DESCRIPTION:7:30 am Flag raising at city hall\, \n10:30 am Parade – beginning at 400 N/800 W\, north to Pages Ln\, east to 600 W\, north to Stake Center \n11:00 – 2:00 Park Activities/Carnival \n8:00 Bands at city park \n10:00 pm Fireworks
URL:https://wbcityut.gov/event/july-4-celebration/
CATEGORIES:Events
END:VEVENT
BEGIN:VEVENT
DTSTART;TZID=America/Chicago:20220712T193000
DTEND;TZID=America/Chicago:20220712T203000
DTSTAMP:20260424T053758
CREATED:20220516T210109Z
LAST-MODIFIED:20220516T210109Z
UID:10000217-1657654200-1657657800@wbcityut.gov
SUMMARY:Planning Commission Mtg
DESCRIPTION:
URL:https://wbcityut.gov/event/planning-commission-mtg-25/
CATEGORIES:Events
END:VEVENT
END:VCALENDAR